Workbook

Sheet 汇总表
A1: 消防工程量清单报价汇总表
A3: 项目名称： | B3: 苏地2012-G-81地块酒店、温泉中心消防工程
A4: 序号 | B4: 项目名称 | C4: 金额（元） | D4: 建筑面积（m2） | E4: 单方造价 （元/m2） | F4: 备注
A5: =+ROW()-4 -> 1 | B5: 消防电 | C5: ='1消防电'!H422 -> 0 | E5: =+IFERROR(C5/D5,0) -> 0
A6: =+ROW()-4 -> 2 | B6: 消防水 | C6: ='2水'!H210 -> 0 | E6: =+IFERROR(C6/D6,0) -> 0
A7: =+ROW()-4 -> 3 | B7: 防排烟 | C7: ='3防排烟'!H190 -> 0 | E7: =+IFERROR(C7/D7,0) -> 0
A8: =+ROW()-4 -> 4 | B8: 防火门 | C8: ='4防火门'!H33 -> 0 | E8: =+IFERROR(C8/D8,0) -> 0
A9: =+ROW()-4 -> 5 | B9: 强电系统 | C9: ='5强电系统'!H76 -> 0 | E9: =+IFERROR(C9/D9,0) -> 0
A10: 6 | B10: 应急照明 | C10: ='6应急照明'!H33 -> 0 | E10: =+IFERROR(C10/D10,0) -> 0
A11: =+ROW()-4 -> 7 | B11: 气体灭火 | C11: ='7气体灭火'!H17 -> 0 | E11: =+IFERROR(C11/D11,0) -> 0
A12: 8 | B12: 城市消防联动 | C12: ='8城市消防联动'!H3 -> 0 | E12: =+IFERROR(C12/D12,0) -> 0
A13: =+ROW()-4 -> 9 | B13: 措施项目费 | C13: ='9措施项目费'!C13 -> 0 | D13: =SUM(D5:D7) -> 0 | E13: =+IFERROR(C13/D13,0) -> 0
A14: =+ROW()-4 -> 10 | B14: 合计 | C14: =SUM(C5:C13) -> 0 | D14: =SUM(D5:D7) -> 0 | E14: =+IFERROR(C14/D14,0) -> 0 | F14: 1+2+3+4+5+6+7+8+9
A15: 投标单位名称:（盖章） | D15: 日 期：

Sheet 报价须知
A1: 工程量清单报价填报须知
A2: 1.本工程量清单应连同分包合同协议书、合同条件、工程规范和合同图纸一起参阅，填报价时均已全面考虑了合同、规范、图纸、施工现场等所有风险因素。中标后不得因此而增加相关费用。
A3: 2. 工程量清单及其计价格式中所有要求签字、盖章的地方必须由规定的单位和人员签字、盖章。
A4: 3. 工程量清单及其计价格式中的任何内容不得随意删除或涂改。
A5: 4. 清单中未填报的单价和合价，视为此项费用已包含在工程量清单的其他单价和合价中。
A6: 5. 本工程量清单填报须知包括附件一和附件二两部分内容。
A7: 6. 报价与单价组成明细表内填写的综合单价不一致，应以工程量清单内填报的综合单价为准价人须按报价须知附录三单价组成明细表的格式填报综合单价组成明细。若工程量清单内填报的综合单。
A8: 7. 在“项目名称”内，若以“按规定”作为某项的“项目特征”要求的描述时。‘按规定’一词是指有关的项目特征应符合图纸及规范的有关要求，为免混淆，无论项目名称内是否有“按规定”的字眼，均不应影响对本须知第8条规定的执行。
A9: 8. 除另有规定外，所有材料设备和操作工艺必须符合有关技术规范条款和图纸的规定，工程量清单内的工程量全部是根据发包图纸及此计量原则计算，报价人填入工程量清单内的单价应包括按照有关技术规范条款和图纸所要求来完成所有工作之费用。
A10: 9. 本须知应作为工程量清单报价的组成部份。
A11: 10. 综合单价需考虑垃圾外运费用，具体情况满足当地旅游度假区要求。
A12: 11. 综合单价需考虑政府要求的所有投保费用。
... A127: (v) 按规范提供髹漆彩色标记。

Sheet 1消防电
A1: 消防电工程量清单
A2: 序号 | B2: 项目名称 | C2: 项目特征描述 | D2: 单位 | E2: 工程量 计算规则 | F2: 工程量 | G2: 单价 | H2: 合计 | I2: 备注
A3: 一 | B3: A1地下室 | H3: =SUM(H4:H50) -> 0
A4: A | B4: 火灾自动报警系统
A5: 1 | B5: 接线端子箱(防溅型)JX | C5: 接线端子箱安装 | D5: 个 | E5: 根据图纸所显示数量(个)计算 | F5: 5
A6: 2 | B6: 隔离模块 GL | C6: 1.名称:短路隔离器 2.型号:LD3600E | D6: 个 | E6: 根据图纸所显示数量(个)计算 | F6: 16
A7: 3 | B7: 智能光电感烟探测器 | C7: 1.名称:智能光电感烟探测器 2.型号:JTY-GD/LD3000E | D7: 个 | E7: 根据图纸所显示数量(个)计算 | F7: 181
A8: 4 | B8: 智能感温探测器 | C8: 1.名称:智能感温探测器 2.型号:JTW-ZD/LD3300E | D8: 个 | E8: 根据图纸所显示数量(个)计算 | F8: 10
A9: 5 | B9: 可燃气体探测器 | C9: 可燃气体探测器安装 | D9: 个 | E9: 根据图纸所显示数量(个)计算 | F9: 6
A10: 6 | B10: 可燃气体报警控制器 KQTC | C10: 可燃气体报警控制器安装 | D10: 个 | E10: 根据图纸所显示数量(个)计算 | F10: 2
A11: 7 | B11: 智能手动报警按钮 | C11: 1.名称:智能手动报警按钮 2.型号:J-SAP-M/LD2000E | D11: 个 | E11: 根据图纸所显示数量(个)计算 | F11: 14
A12: 8 | B12: 消防电话分机 | C12: 1.名称:消防电话分机 2.型号:LD8100 | D12: 个 | E12: 根据图纸所显示数量(个)计算 | F12: 10
A13: 9 | B13: 消防广播音箱 | C13: 1.名称:消防广播音箱 | D13: 个 | E13: 根据图纸所显示数量(个)计算 | F13: 30
A14: 10 | B14: 消防声光报警器 | C14: 1.名称:消防声光报警器 2.型号:LD1000E | D14: 个 | E14: 根据图纸所显示数量(个)计算 | F14: 15
A15: 11 | B15: 消火栓按钮 | C15: 1.名称:消火栓按钮（仅安装） | D15: 个 | E15: 根据图纸所显示数量(个)计算 | F15: 31
A16: 12 | B16: 信号输入模块 | C16: 1.名称:信号输入模块 2.型号:LD4400E | D16: 个 | E16: 根据图纸所显示数量(个)计算 | F16: 16
... A41: 37 | B41: 电动防火门、防火卷帘调试、电梯调试等 | C41: 系统调试 | D41: 项 | E41: 根据图纸所显示系统(项)计算 | F41: 1
A42: B | B42: 电气火灾监控系统
A43: 38 | B43: 电气火灾监控模块 LDJ | C43: 1.名称:电气火灾监控模块 2.型号:WEFPT | D43: 个 | E43: 根据图纸所显示数量(个)计算 | F43: 15
A44: 39 | B44: 配线 ZRNH-RVSP-2x2.5 | C44: 穿铁丝、穿线 | D44: 米 | E44: 根据图纸所显示数量(米)计算 | F44: =160*1.5 -> 240
A45: 40 | B45: 电线管 SC20 | C45: 电线管安装,刷防火漆 | D45: 米 | E45: 根据图纸所显示数量(米)计算 | F45: 60
A46: C | B46: 消防电源监控系统
A47: 41 | B47: 消防电源监控模块 XDK | C47: 1.名称:电气火灾监控模块 2.型号:WEFPT | D47: 个 | E47: 根据图纸所显示数量(个)计算 | F47: 11
A48: 42 | B48: 配线 ZRNH-RVV-2x2.5 | C48: 穿铁丝、穿线 | D48: 米 | E48: 根据图纸所显示数量(米)计算 | F48: =260*1.5 -> 390
A49: 43 | B49: 配线 ZRNH-RVSP-2x1.5 | C49: 穿铁丝、穿线 | D49: 米 | E49: 根据图纸所显示数量(米)计算 | F49: =F48 -> 390
A50: 44 | B50: 电线管 SC25 | C50: 电线管安装,刷防火漆 | D50: 米 | E50: 根据图纸所显示数量(米)计算 | F50: 60
A51: 二 | B51: A1地上部分 | H51: =SUM(H52:H113) -> 0
A52: A | B52: 火灾自动报警系统
A53: 1 | B53: 接线端子箱(防溅型)JX | C53: 接线端子箱安装 | D53: 个 | E53: 根据图纸所显示数量(个)计算 | F53: 5
A54: 2 | B54: 隔离模块 GL | C54: 1.名称:短路隔离器 2.型号:LD3600E | D54: 个 | E54: 根据图纸所显示数量(个)计算 | F54: 19
A55: 3 | B55: 智能光电感烟探测器 | C55: 1.名称:智能光电感烟探测器 2.型号:JTY-GD/LD3000E | D55: 个 | E55: 根据图纸所显示数量(个)计算 | F55: 158
A56: 4 | B56: 智能感温探测器 | C56: 1.名称:智能感温探测器 2.型号:JTW-ZD/LD3300E | D56: 个 | E56: 根据图纸所显示数量(个)计算 | F56: 16
A57: 5 | B57: 可燃气体探测器 | C57: 可燃气体探测器安装 | D57: 个 | E57: 根据图纸所显示数量(个)计算 | F57: 8
A58: 6 | B58: 可燃气体报警控制器 KQTC | C58: 可燃气体报警控制器安装 | D58: 个 | E58: 根据图纸所显示数量(个)计算 | F58: 2
A59: 7 | B59: 智能手动报警按钮 | C59: 1.名称:智能手动报警按钮 2.型号:J-SAP-M/LD2000E | D59: 个 | E59: 根据图纸所显示数量(个)计算 | F59: 13
A60: 8 | B60: 消防电话分机 | C60: 1.名称:消防电话分机 2.型号:LD8100 | D60: 个 | E60: 根据图纸所显示数量(个)计算 | F60: 16
A61: 9 | B61: 消防广播音箱 | C61: 1.名称:消防广播音箱 | D61: 个 | E61: 根据图纸所显示数量(个)计算 | F61: 31
A62: 10 | B62: 消防声光报警器 | C62: 1.名称:消防声光报警器 2.型号:LD1000E | D62: 个 | E62: 根据图纸所显示数量(个)计算 | F62: 19
A63: 11 | B63: 消火栓按钮 | C63: 1.名称:消火栓按钮 | D63: 个 | E63: 根据图纸所显示数量(个)计算 | F63: 48
A64: 12 | B64: 信号输入模块 | C64: 1.名称:信号输入模块 2.型号:LD4400E | D64: 个 | E64: 根据图纸所显示数量(个)计算 | F64: 21
...

Sheet 2水
A1: 消防水工程量清单
A2: 序号 | B2: 项目名称 | C2: 项目特征描述 | D2: 单位 | E2: 工程量 计算规则 | F2: 工程量 | G2: 单价 | H2: 合计 | I2: 备注
A3: 一 | B3: A1地下室 | H3: =SUM(H4:H39) -> 0
A4: A | B4: 消火栓
A5: 1 | B5: 热浸镀锌钢管 DN150 | C5: 管道敷设、含卡箍配件，刷除锈刷漆，含抗震支架制作安装 | D5: 米 | E5: 根据图纸所显示数量(米)计算 | F5: 631
A6: 2 | B6: 热浸镀锌钢管 DN100 | C6: 管道敷设、含卡箍配件，刷除锈刷漆，含抗震支架制作安装 | D6: 米 | E6: 根据图纸所显示数量(米)计算 | F6: 285
A7: 3 | B7: 热浸镀锌钢管 DN65 | C7: 管道敷设、含卡箍配件，刷除锈刷漆，含抗震支架制作安装 | D7: 米 | E7: 根据图纸所显示数量(米)计算 | F7: 240
A8: 4 | B8: 明杆闸阀 DN150 | C8: 阀门安装，含法兰等配件 | D8: 个 | E8: 根据图纸所显示数量(个)计算 | F8: 2
A9: 5 | B9: 止回阀 DN150 | C9: 阀门安装，含法兰等配件 | D9: 个 | E9: 根据图纸所显示数量(个)计算 | F9: 2
A10: 6 | B10: 蝶阀 DN150 | C10: 阀门安装，含法兰等配件 | D10: 个 | E10: 根据图纸所显示数量(个)计算 | F10: 22
A11: 7 | B11: 蝶阀 DN100 | C11: 阀门安装，含法兰等配件 | D11: 个 | E11: 根据图纸所显示数量(个)计算 | F11: 12
A12: 8 | B12: 蝶阀 DN65 | C12: 阀门安装，含法兰等配件 | D12: 个 | E12: 根据图纸所显示数量(个)计算 | F12: 3
A13: 9 | B13: 自动排气阀 DN20 | C13: 自动排气阀门安装 | D13: 个 | E13: 根据图纸所显示数量(个)计算 | F13: 16
A14: 10 | B14: 截止阀 DN20 | C14: 截止阀安装 | D14: 个 | E14: 根据图纸所显示数量(个)计算 | F14: 16
A15: 11 | B15: 手提式磷酸铵盐干粉灭火器 MF/ABC5 | C15: 灭火器安装 | D15: 个 | E15: 根据图纸所显示数量(个)计算 | F15: 14
A16: 12 | B16: 手提式磷酸铵盐干粉灭火器 MF/ABC4 | C16: 灭火器安装 | D16: 个 | E16: 根据图纸所显示数量(个)计算 | F16: 32
A17: 13 | B17: 减压稳压型消火栓 DN65 | C17: 内设置SN65或SNW65型消火栓1套(双立管双栓,设2套),φ19mm水枪,25m衬胶龙带。各消防箱内均设消防按钮。各公共水管井每层封堵。附带的水喉卷盘为SN25,8mm水枪,25m卷盘 | D17: 个 | E17: 根据图纸所显示数量(个)计算 | F17: 31
A18: B | B18: 喷淋
A19: 14 | B19: 热浸镀锌钢管 DN150 | C19: 管道敷设、含卡箍配件，刷除锈刷漆，含抗震支架制作安装 | D19: 米 | E19: 根据图纸所显示数量(米)计算 | F19: =190+511 -> 701
A20: 15 | B20: 热浸镀锌钢管 DN100 | C20: 管道敷设、含卡箍配件，刷除锈刷漆，含抗震支架制作安装 | D20: 米 | E20: 根据图纸所显示数量(米)计算 | F20: =113+50 -> 163
A21: 16 | B21: 热浸镀锌钢管 DN80 | C21: 管道敷设、含卡箍配件，刷除锈刷漆，含抗震支架制作安装 | D21: 米 | E21: 根据图纸所显示数量(米)计算 | F21: =177+50 -> 227
A22: 17 | B22: 热浸镀锌钢管 DN65 | C22: 管道敷设、含卡箍配件，刷除锈刷漆，含抗震支架制作安装 | D22: 米 | E22: 根据图纸所显示数量(米)计算 | F22: =53+50 -> 103
A23: 18 | B23: 热浸镀锌钢管 DN50 | C23: 管道敷设、含卡箍配件，刷除锈刷漆，含抗震支架制作安装 | D23: 米 | E23: 根据图纸所显示数量(米)计算 | F23: =193+50 -> 243
A24: 19 | B24: 热浸镀锌钢管 DN40 | C24: 管道敷设、含卡箍配件，刷除锈刷漆，含抗震支架制作安装 | D24: 米 | E24: 根据图纸所显示数量(米)计算 | F24: =664+50 -> 714
A25: 20 | B25: 热浸镀锌钢管 DN32 | C25: 管道敷设、含卡箍配件，刷除锈刷漆，含抗震支架制作安装 | D25: 米 | E25: 根据图纸所显示数量(米)计算 | F25: 68
A26: 21 | B26: 热浸镀锌钢管 DN25 | C26: 管道敷设、含卡箍配件，刷除锈刷漆，含抗震支架制作安装 | D26: 米 | E26: 根据图纸所显示数量(米)计算 | F26: =2627+100 -> 2727
A27: 22 | B27: 直立型喷头 DN25 | C27: 喷头安装 | D27: 个 | E27: 根据图纸所显示数量(个)计算 | F27: 710
A28: 23 | B28: 装饰喷头（带装饰碟）DN25 | C28: 喷头、带装饰碟安装 | D28: 个 | E28: 根据图纸所显示数量(个)计算 | F28: 155
A29: 24 | B29: 明杆闸阀 N150 | C29: 阀门安装，含法兰等配件 | D29: 个 | E29: 根据图纸所显示数量(个)计算 | F29: 4
A30: 25 | B30: 止回阀N150 | C30: 阀门安装，含法兰等配件 | D30: 个 | E30: 根据图纸所显示数量(个)计算 | F30: 2
A31: 26 | B31: 水流指示器N150 | C31: 水流指示器安装，含法兰等配件 | D31: 个 | E31: 根据图纸所显示数量(个)计算 | F31: 6
A32: 27 | B32: 信号阀N150 | C32: 阀门安装，含法兰等配件 | D32: 个 | E32: 根据图纸所显示数量(个)计算 | F32: 7
A33: 28 | B33: 湿式报警阀N150 | C33: 阀门安装，含法兰等配件 | D33: 个 | E33: 根据图纸所显示数量(个)计算 | F33: 5
A34: 29 | B34: 闸阀N150 | C34: 阀门安装，含法兰等配件 | D34: 个 | E34: 根据图纸所显示数量(个)计算 | F34: 5
A35: 30 | B35: 流量计N150 | C35: 阀门安装，含法兰等配件 | D35: 个 | E35: 根据图纸所显示数量(个)计算 | F35: 1
A36: 31 | B36: 自动排气阀 DN25 | C36: 自动排气阀门安装 | D36: 个 | E36: 根据图纸所显示数量(个)计算 | F36: 8
A37: 32 | B37: 截止阀 DN25 | C37: 截止阀安装 | D37: 个 | E37: 根据图纸所显示数量(个)计算 | F37: 8
A38: 33 | B38: 压力表 DN25 | C38: 压力表安装 | D38: 个 | E38: 根据图纸所显示数量(个)计算 | F38: 3
A39: 34 | B39: 末端试水装置 DN25 | C39: 末端试水装置安装 | D39: 个 | E39: 根据图纸所显示数量(个)计算 | F39: 6
A40: 二 | B40: A1地上部分 | H40: =SUM(H41:H88) -> 0
...

Sheet 3防排烟
A1: 防排烟工程量清单
A2: 序号 | B2: 项目名称 | C2: 项目特征描述 | D2: 单位 | E2: 工程量 计算规则 | F2: 工程量 | G2: 单价 | H2: 合计 | I2: 备注
A3: 一 | B3: A1地下室 | H3: =SUM(H4:H49) -> 0
A4: 1 | B4: 消防低噪声柜式双速离心风机箱 P(Y)-A1/B-1,风量23000(m3/h)，全压400(Pa)，功率5.5(380V,kW) | C4: 风机吊装、设备接地、含抗震支架制作安装 | D4: 个 | E4: 根据图纸所显示数量(个)计算 | F4: 1
A5: 2 | B5: SWF-ⅠN0.6.5混流风机 XS-A1/B-1:风量11000(m3/h)，全压400(Pa)，功率2.2(380V,kW) | C5: 风机吊装、设备接地、含抗震支架制作安装 | D5: 个 | E5: 根据图纸所显示数量(个)计算 | F5: 1
A6: 3 | B6: SWF-ⅠN0.6.5混流风机 XS-A1/B-2,风量22000(m3/h)，全压650(Pa)，功率7.5(380V,kW) | C6: 风机吊装、设备接地、含抗震支架制作安装 | D6: 个 | E6: 根据图纸所显示数量(个)计算 | F6: 1
A7: 4 | B7: SWF-ⅠN0.7.5混流风机 XS-A1/B-3,风量16500(m3/h)，全压600(Pa)，功率5(380V,kW) | C7: 风机吊装、设备接地、含抗震支架制作安装 | D7: 个 | E7: 根据图纸所显示数量(个)计算 | F7: 1
A8: 5 | B8: SWF-ⅠN0.7.5混流风机 XS-A1/B-4,风量13200(m3/h)，全压600(Pa)，功率7.5(380V,kW) | C8: 风机吊装、设备接地、含抗震支架制作安装 | D8: 个 | E8: 根据图纸所显示数量(个)计算 | F8: 1
A9: 6 | B9: 碳钢通风管道 δ=1.5mm | C9: 风管制作安装，含抗震支架制作安装 | D9: 米2 | E9: 根据图纸所显示数量(米2)计算 | F9: 37.6
A10: 7 | B10: 碳钢通风管道 δ=1.2mm | C10: 风管制作安装，含抗震支架制作安装 | D10: 米2 | E10: 根据图纸所显示数量(米2)计算 | F10: 243.5
A11: 8 | B11: 碳钢通风管道 δ=1.0mm | C11: 风管制作安装，含抗震支架制作安装 | D11: 米2 | E11: 根据图纸所显示数量(米2)计算 | F11: 820.4
A12: 9 | B12: 碳钢通风管道 δ=0.75mm | C12: 风管制作安装，含抗震支架制作安装 | D12: 米2 | E12: 根据图纸所显示数量(米2)计算 | F12: 1.21
A13: 10 | B13: 不锈钢排烟管道 δ=0.75mm | C13: 风管制作安装，含抗震支架制作安装 | D13: 米2 | E13: 根据图纸所显示数量(米2)计算 | F13: 87.6
A14: 11 | B14: 不锈钢排烟管道 δ=0.5mm | C14: 风管制作安装，含抗震支架制作安装 | D14: 米2 | E14: 根据图纸所显示数量(米2)计算 | F14: 54.8
A15: 12 | B15: FDS 70°防火阀 1600*320 | C15: 风阀安装 | D15: 个 | E15: 根据图纸所显示数量(个)计算 | F15: 1
... A49: 46 | B49: 系统调试费(管道、风口、风阀) | C49: 管道、风口、风阀、风机等系统调试 | D49: 项 | E49: 根据图纸所显示数量(项)计算 | F49: 1
A50: 二 | B50: A1地上部分 | H50: =SUM(H51:H100) -> 0
A51: 1 | B51: HTF-ⅠN0.10混流风机 PY-A1/1-1,风量38000(m3/h)，全压700(Pa)，功率11(380V,kW) | C51: 风机吊装、设备接地、含抗震支架制作安装 | D51: 个 | E51: 根据图纸所显示数量(个)计算 | F51: 1
A52: 2 | B52: SWF-ⅠN0.7.5混流风机 JY-A1/1-1,风量27000(m3/h)，全压350(Pa)，功率4(380V,kW) | C52: 风机吊装、设备接地、含抗震支架制作安装 | D52: 个 | E52: 根据图纸所显示数量(个)计算 | F52: 1
A53: 3 | B53: SWF-ⅠN0.7.0混流风机 JY-A1/2-1,风量22000(m3/h)，全压350(Pa)，功率3(380V,kW) | C53: 风机吊装、设备接地、含抗震支架制作安装 | D53: 个 | E53: 根据图纸所显示数量(个)计算 | F53: 1
A54: 4 | B54: HTF-ⅠN0.7混流风机箱 PY-A1/2-1/2,风量20000(m3/h)，全压700(Pa)，功率7.5(380V,kW) | C54: 风机吊装、设备接地、含抗震支架制作安装 | D54: 个 | E54: 根据图纸所显示数量(个)计算 | F54: 2
A55: 5 | B55: HTF-ⅠN0.7.5混流风机箱 PY-A1/2-3,风量31000(m3/h)，全压700(Pa)，功率11(380V,kW) | C55: 风机吊装、设备接地、含抗震支架制作安装 | D55: 个 | E55: 根据图纸所显示数量(个)计算 | F55: 1
A56: 6 | B56: HTF-ⅠN0.7.5混流风机 PY-A1/2-4,风量26000(m3/h)，全压700(Pa)，功率11(380V,kW) | C56: 风机吊装、设备接地、含抗震支架制作安装 | D56: 个 | E56: 根据图纸所显示数量(个)计算 | F56: 1
A57: 7 | B57: HTF-ⅠN0.10混流风机 PY-A1/D-1,风量44000(m3/h)，全压700(Pa)，功率11(380V,kW) | C57: 风机吊装、设备接地、含抗震支架制作安装 | D57: 个 | E57: 根据图纸所显示数量(个)计算 | F57: 1
A58: 8 | B58: HTF-ⅠN0.13混流风机 PY-A1/D-2,风量60000(m3/h)，全压700(Pa)，功率18.5(380V,kW) | C58: 风机吊装、设备接地、含抗震支架制作安装 | D58: 个 | E58: 根据图纸所显示数量(个)计算 | F58: 1
A59: 9 | B59: 碳钢通风管道 δ=0.75mm | C59: 风管制作安装，含抗震支架制作安装 | D59: 米2 | E59: 根据图纸所显示数量(米2)计算 | F59: 6.6
A60: 10 | B60: 碳钢通风管道 δ=1.0mm | C60: 风管制作安装，含抗震支架制作安装 | D60: 米2 | E60: 根据图纸所显示数量(米2)计算 | F60: 747.56
A61: 11 | B61: 碳钢通风管道 δ=1.2mm | C61: 风管制作安装，含抗震支架制作安装 | D61: 米2 | E61: 根据图纸所显示数量(米2)计算 | F61: 2
A62: 12 | B62: 碳钢通风管道 δ=1.5mm | C62: 风管制作安装，含抗震支架制作安装 | D62: 米2 | E62: 根据图纸所显示数量(米2)计算 | F62: 65
... A100: 50 | B100: 系统调试费(管道、风口、风阀) | C100: 管道、风口、风阀、风机等系统调试 | D100: 项 | E100: 根据图纸所显示数量(项)计算 | F100: 1
A101: 三 | B101: A2地下室 | H101: =SUM(H102:H152) -> 0
A102: 1 | B102: 消防低噪声柜式离心风机箱 P(Y)-A2/B-1，风量36000(m3/h)，全压550(Pa)，功率11(380V,kW) | C102: 风机吊装、设备接地、含抗震支架制作安装 | D102: 个 | E102: 根据图纸所显示数量(个)计算 | F102: 1
A103: 2 | B103: HTF-ⅠN0.7混流风机箱 PY-A2/B-2，风量20000(m3/h)，全压550(Pa)，功率7.5(380V,kW) | C103: 风机吊装、设备接地、含抗震支架制作安装 | D103: 个 | E103: 根据图纸所显示数量(个)计算 | F103: 1
A104: 3 | B104: SWF-ⅠN0.4.5混流风机 XS-A2/B-2，风量7000(m3/h)，全压350(Pa)，功率3(380V,kW) | C104: 风机吊装、设备接地、含抗震支架制作安装 | D104: 个 | E104: 根据图纸所显示数量(个)计算 | F104: 1
A105: 4 | B105: SWF-ⅠN0.6.5混流风机 XS-A2/B-3，风量12000(m3/h)，全压350(Pa)，功率3(380V,kW) | C105: 风机吊装、设备接地、含抗震支架制作安装 | D105: 个 | E105: 根据图纸所显示数量(个)计算 | F105: 1
A106: 5 | B106: SWF-ⅠN0.6.5混流风机 XS-A2/B-4，风量12000(m3/h)，全压350(Pa)，功率3(380V,kW) | C106: 风机吊装、设备接地、含抗震支架制作安装 | D106: 个 | E106: 根据图纸所显示数量(个)计算 | F106: 1
A107: 6 | B107: SWF-ⅠN0.6.5混流风机 JY-A2/B-1，风量16000(m3/h)，全压450(Pa)，功率4(380V,kW) | C107: 风机吊装、设备接地、含抗震支架制作安装 | D107: 个 | E107: 根据图纸所显示数量(个)计算 | F107: 1
A108: 7 | B108: SWF-ⅠN0.6.5混流风机 JY-A2/B-2，风量16000(m3/h)，全压450(Pa)，功率4(380V,kW) | C108: 风机吊装、设备接地、含抗震支架制作安装 | D108: 个 | E108: 根据图纸所显示数量(个)计算 | F108: 1
A109: 8 | B109: HTF-ⅠN0.7混流风机箱 X(S)-A2/B-1，风量28800(m3/h)，全压350(Pa)，功率5.5(380V,kW) | C109: 风机吊装、设备接地、含抗震支架制作安装 | D109: 个 | E109: 根据图纸所显示数量(个)计算 | F109: 1
A110: 9 | B110: 碳钢通风管道 δ=0.75mm | C110: 风管制作安装，含抗震支架制作安装 | D110: 米2 | E110: 根据图纸所显示数量(米2)计算 | F110: 37.28
...

Sheet 4防火门
A1: 防火门系统报价清单（此部分按实结算）
A2: 序号 | B2: 项目名称 | C2: 项目特征描述 | D2: 单位 | E2: 工程量 计算规则 | F2: 工程量 | G2: 单价 | H2: 合计 | I2: 备注
A3: 一 | B3: A1地下室 | H3: =SUM(H4:H8) -> 0
A4: 1 | B4: 钢制木纹防转印火门 | C4: 防火门制作安装、含闭门器、门锁等 | D4: 米2 | E4: 根据图纸所显示数量(米2)计算 | F4: 297.23
A5: 2 | B5: 防火窗 | C5: 防火窗制作安装、含闭门器、把手等 | D5: 米2 | E5: 根据图纸所显示数量(米2)计算 | F5: 6.15
A6: 3 | B6: 防火卷帘 | C6: 卷帘门安装、含电机、控制箱及控制电缆 | D6: 米2 | E6: 根据图纸所显示数量(米2)计算 | F6: 10
A7: 4 | B7: 电动挡烟垂壁 | C7: 挡烟垂壁制作安装、含电机、控制箱及控制电缆 | D7: 米2 | E7: 根据图纸所显示数量(米2)计算 | F7: =11*2 -> 22
A8: 5 | B8: 挡烟垂壁 | C8: 挡烟垂壁制作安装 | D8: 米2 | E8: 根据图纸所显示数量(米2)计算 | F8: 10
A9: 二 | B9: A1地上部分 | H9: =SUM(H10:H16) -> 0
A10: 1 | B10: 木质防火门 | C10: 防火门制作安装、含闭门器、门锁等 | D10: 米2 | E10: 根据图纸所显示数量(米2)计算 | F10: 10
A11: 2 | B11: 木质精装饰防火门 | C11: 防火门、精装修门的制作安装、含闭门器、门锁等 | D11: 米2 | E11: 根据图纸所显示数量(米2)计算 | F11: 150 | G11: 1000 | I11: 暂定单价
A12: 3 | B12: 防火窗 | C12: 防火窗制作安装、含闭门器、把手等 | D12: 米2 | E12: 根据图纸所显示数量(米2)计算 | F12: 6.39
A13: 4 | B13: 防火卷帘 | C13: 卷帘门安装、含电机、控制箱及控制电缆 | D13: 米2 | E13: 根据图纸所显示数量(米2)计算 | F13: =(6.2+5.7+8.8+2.1+6.6+8.8+6.6)*4.2 -> 188.16
A14: 5 | B14: 电动挡烟垂壁 | C14: 挡烟垂壁制作安装、含电机、控制箱及控制电缆 | D14: 米2 | E14: 根据图纸所显示数量(米2)计算 | F14: =14.1*2 -> 28.2
A15: 6 | B15: 防火救援窗 | C15: 防火窗制作安装、含闭门器、把手等 | D15: 米2 | E15: 根据图纸所显示数量(米2)计算 | F15: =1.2*7 -> 8.4
A16: 7 | B16: 挡烟垂壁 | C16: 挡烟垂壁制作安装 | D16: 米2 | E16: 根据图纸所显示数量(米2)计算 | F16: 10
A17: 三 | B17: A2地下室 | H17: =SUM(H18:H22) -> 0
A18: 1 | B18: 钢制木纹防转印火门 | C18: 防火门制作安装、含闭门器、门锁等 | D18: 米2 | E18: 根据图纸所显示数量(米2)计算 | F18: 172.96
A19: 2 | B19: 防火窗 | C19: 防火窗制作安装、含闭门器、把手等 | D19: 米2 | E19: 根据图纸所显示数量(米2)计算 | F19: 13.7
A20: 3 | B20: 防火卷帘 | C20: 卷帘门安装、含电机、控制箱及控制电缆 | D20: 米2 | E20: 根据图纸所显示数量(米2)计算 | F20: =(2.1+7.6+12+0)*4.2 -> 91.14
A21: 4 | B21: 电动挡烟垂壁 | C21: 挡烟垂壁制作安装、含电机、控制箱及控制电缆 | D21: 米2 | E21: 根据图纸所显示数量(米2)计算 | F21: 10
A22: 5 | B22: 挡烟垂壁 | C22: 挡烟垂壁制作安装 | D22: 米2 | E22: 根据图纸所显示数量(米2)计算 | F22: 10
A23: 四 | B23: A2地上部分 | H23: =SUM(H24:H29) -> 0
A24: 1 | B24: 木质防火门 | C24: 防火门制作安装、含闭门器、门锁等 | D24: 米2 | E24: 根据图纸所显示数量(米2)计算 | F24: 10
A25: 2 | B25: 木质精装饰防火门 | C25: 防火门、精装修门的制作安装、含闭门器、门锁等 | D25: 米2 | E25: 根据图纸所显示数量(米2)计算 | F25: 100 | G25: 1000 | I25: 暂定单价
A26: 3 | B26: 防火救援窗 | C26: 防火窗制作安装、含闭门器、把手等 | D26: 米2 | E26: 根据图纸所显示数量(米2)计算 | F26: =1.2*9 -> 10.8
A27: 4 | B27: 防火卷帘 | C27: 卷帘门安装、含电机、控制箱及控制电缆 | D27: 米2 | E27: 根据图纸所显示数量(米2)计算 | F27: 10
A28: 5 | B28: 电动挡烟垂壁 | C28: 挡烟垂壁制作安装、含电机、控制箱及控制电缆 | D28: 米2 | E28: 根据图纸所显示数量(米2)计算 | F28: 10
A29: 6 | B29: 挡烟垂壁 | C29: 挡烟垂壁制作安装 | D29: 米2 | E29: 根据图纸所显示数量(米2)计算 | F29: 10
A30: 五 | B30: 酒店客房及64、65栋 | H30: =SUM(H31:H32) -> 0
A31: 1 | B31: 钢制木纹防转印火门 | C31: 防火门制作安装、含闭门器、门锁等 | D31: 米2 | E31: 根据图纸所显示数量(米2)计算 | F31: 40
A32: 2 | B32: 木质精装饰防火门 | C32: 防火门、精装修门的制作安装、含闭门器、门锁等 | D32: 米2 | E32: 根据图纸所显示数量(米2)计算 | F32: 60 | G32: 1000 | I32: 暂定单价
A33: 六 | B33: 汇总 | C33: (一）+（二）+（三）+（四）+（五） | H33: =H3+H9+H17+H23+H30 -> 0

Sheet 5强电系统
A1: 强电系统工程量清单
A2: 序号 | B2: 项目名称 | C2: 项目特征描述 | D2: 单位 | E2: 工程量 计算规则 | F2: 工程量 | G2: 单价 | H2: 合计 | I2: 备注
A3: 一 | B3: A1区 | H3: =SUM(H4:H31) -> 0
A4: 1 | B4: 配电箱 B1APE-BF1 | C4: 配电安装，含系统图所有元器件安装 | D4: 个 | E4: 根据图纸所显示数量(个)计算 | F4: 1
A5: 2 | B5: 配电箱 B1APE-BF2 | C5: 配电安装，含系统图所有元器件安装 | D5: 个 | E5: 根据图纸所显示数量(个)计算 | F5: 1
A6: 3 | B6: 配电箱 B1APE-BF3 | C6: 配电安装，含系统图所有元器件安装 | D6: 个 | E6: 根据图纸所显示数量(个)计算 | F6: 1
A7: 4 | B7: 配电箱 B1APE-BF4 | C7: 配电安装，含系统图所有元器件安装 | D7: 个 | E7: 根据图纸所显示数量(个)计算 | F7: 1
A8: 5 | B8: 配电箱 B1APE-PY | C8: 配电安装，含系统图所有元器件安装 | D8: 个 | E8: 根据图纸所显示数量(个)计算 | F8: 1
A9: 6 | B9: 配电箱 1APE-PY1 | C9: 配电安装，含系统图所有元器件安装 | D9: 个 | E9: 根据图纸所显示数量(个)计算 | F9: 1
A10: 7 | B10: 配电箱 1APE-JY1 | C10: 配电安装，含系统图所有元器件安装 | D10: 个 | E10: 根据图纸所显示数量(个)计算 | F10: 1
A11: 8 | B11: 配电箱 2APE-PY1 | C11: 配电安装，含系统图所有元器件安装 | D11: 个 | E11: 根据图纸所显示数量(个)计算 | F11: 1
A12: 9 | B12: 配电箱 2APE-PY2 | C12: 配电安装，含系统图所有元器件安装 | D12: 个 | E12: 根据图纸所显示数量(个)计算 | F12: 1
A13: 10 | B13: 配电箱 2APE-PY3 | C13: 配电安装，含系统图所有元器件安装 | D13: 个 | E13: 根据图纸所显示数量(个)计算 | F13: 1
A14: 11 | B14: 配电箱 2APE-JY | C14: 配电安装，含系统图所有元器件安装 | D14: 个 | E14: 根据图纸所显示数量(个)计算 | F14: 1
A15: 12 | B15: 配电箱 DAPE-PY1 | C15: 配电安装，含系统图所有元器件安装 | D15: 个 | E15: 根据图纸所显示数量(个)计算 | F15: 1
... A31: 28 | B31: 镀锌线管 DN25 | C31: 电线管敷设，含防火漆 | D31: 米 | E31: 根据图纸所显示数量(米)计算 | F31: 480
A32: 二 | B32: A2区 | H32: =SUM(H33:H58) -> 0
A33: 1 | B33: 配电箱 B1APE-JY1 | C33: 配电安装，含系统图所有元器件安装 | D33: 个 | E33: 根据图纸所显示数量(个)计算 | F33: 1
A34: 2 | B34: 配电箱 B1APE-JY2 | C34: 配电安装，含系统图所有元器件安装 | D34: 个 | E34: 根据图纸所显示数量(个)计算 | F34: 1
A35: 3 | B35: 配电箱 B1APE-BF1 | C35: 配电安装，含系统图所有元器件安装 | D35: 个 | E35: 根据图纸所显示数量(个)计算 | F35: 1
A36: 4 | B36: 配电箱 B1APE-BF2 | C36: 配电安装，含系统图所有元器件安装 | D36: 个 | E36: 根据图纸所显示数量(个)计算 | F36: 1
A37: 5 | B37: 配电箱 B1APE-BF3 | C37: 配电安装，含系统图所有元器件安装 | D37: 个 | E37: 根据图纸所显示数量(个)计算 | F37: 1
A38: 6 | B38: 配电箱 B1APE-BF4 | C38: 配电安装，含系统图所有元器件安装 | D38: 个 | E38: 根据图纸所显示数量(个)计算 | F38: 1
A39: 7 | B39: 配电箱 B1APE-PY1 | C39: 配电安装，含系统图所有元器件安装 | D39: 个 | E39: 根据图纸所显示数量(个)计算 | F39: 1
A40: 8 | B40: 配电箱 B1APE-PY2 | C40: 配电安装，含系统图所有元器件安装 | D40: 个 | E40: 根据图纸所显示数量(个)计算 | F40: 1
A41: 9 | B41: 配电箱 B1APE-ZXCBF | C41: 配电安装，含系统图所有元器件安装 | D41: 个 | E41: 根据图纸所显示数量(个)计算 | F41: 1
A42: 10 | B42: 配电箱 2APE-PY1 | C42: 配电安装，含系统图所有元器件安装 | D42: 个 | E42: 根据图纸所显示数量(个)计算 | F42: 1
A43: 11 | B43: 配电箱 2APE-PY2 | C43: 配电安装，含系统图所有元器件安装 | D43: 个 | E43: 根据图纸所显示数量(个)计算 | F43: 1
A44: 12 | B44: 配电箱 2APE-PY3 | C44: 配电安装，含系统图所有元器件安装 | D44: 个 | E44: 根据图纸所显示数量(个)计算 | F44: 1
... A58: 26 | B58: 镀锌线管 DN25 | C58: 电线管敷设，含防火漆 | D58: 米 | E58: 根据图纸所显示数量(米)计算 | F58: 395
A59: 三 | B59: 水泵房、屋顶水箱 | H59: =SUM(H60:H75) -> 0
A60: 1 | B60: 电线 WDZCN-KYJV-4*1.5 | C60: 电缆、电线敷设，含电缆头制安 | D60: 米 | E60: 根据图纸所显示数量(米)计算 | F60: =86*2+60*2 -> 292
A61: 2 | B61: 电线管 DN20 | C61: 电线管敷设，含防火漆 | D61: 米 | E61: 根据图纸所显示数量(米)计算 | F61: 48
A62: 3 | B62: WDZCN-KYJV-5*1.5 | C62: 电缆、电线敷设，含电缆头制安 | D62: 米 | E62: 根据图纸所显示数量(米)计算 | F62: =126+60*2 -> 246
A63: 4 | B63: 电线管 DN25 | C63: 电线管敷设，含防火漆 | D63: 米 | E63: 根据图纸所显示数量(米)计算 | F63: 24
A64: 5 | B64: 桥架 300*150 | C64: 桥架，刷除锈刷防火漆，接地，含抗震支架制作安装 | D64: 米 | E64: 根据图纸所显示数量(米)计算 | F64: 36
A65: 6 | B65: 桥架 150*150 | C65: 桥架，刷除锈刷防火漆，接地，含抗震支架制作安装 | D65: 米 | E65: 根据图纸所显示数量(米)计算 | F65: 32
A66: 7 | B66: 矿物质绝缘电缆 BTTZ-4*185 | C66: 电缆、电线敷设，含电缆头制安 | D66: 米 | E66: 根据图纸所显示数量(米)计算 | F66: 16 | I66: 暂定单价
A67: 8 | B67: 数字智能消防巡检设备箱 | C67: 配电安装，含系统图所有元器件安装 | D67: 个 | E67: 根据图纸所显示数量(个)计算 | F67: 1
A68: 9 | B68: 消火栓泵控制箱 | C68: 配电安装，含系统图所有元器件安装 | D68: 个 | E68: 根据图纸所显示数量(个)计算 | F68: 1
...

Sheet 6应急照明
A1: 应急照明系统工程量清单（乙方深化并填写工程量）
A2: 序号 | B2: 项目名称 | C2: 项目特征描述 | D2: 单位 | E2: 工程量 计算规则 | F2: 工程量 | G2: 单价 | H2: 合计 | I2: 备注
A3: 一 | B3: A1区 | H3: =SUM(H4:H17) -> 0
A4: 1 | B4: 照明配电箱 | C4: 配电安装，含系统图所有元器件安装 | D4: 个 | E4: 根据图纸所显示数量(个)计算
A5: 2 | B5: 照明配电箱 | C5: 配电安装，含系统图所有元器件安装 | D5: 个 | E5: 根据图纸所显示数量(个)计算
A6: 3 | B6: 照明配电箱 | C6: 配电安装，含系统图所有元器件安装 | D6: 个 | E6: 根据图纸所显示数量(个)计算
A7: 4 | B7: 照明配电箱 | C7: 配电安装，含系统图所有元器件安装 | D7: 个 | E7: 根据图纸所显示数量(个)计算
A8: 5 | B8: 照明配电箱 | C8: 配电安装，含系统图所有元器件安装 | D8: 个 | E8: 根据图纸所显示数量(个)计算
A9: 6 | B9: 安全出口指示灯 | C9: 按设计技术要求 | D9: 个 | E9: 根据图纸所显示数量(个)计算
A10: 7 | B10: 疏散指示灯 | C10: 按设计技术要求 | D10: 个 | E10: 根据图纸所显示数量(个)计算
A11: 8 | B11: 应急吸顶灯 | C11: 按设计技术要求 | D11: 个 | E11: 根据图纸所显示数量(个)计算
A12: 9 | B12: 地面应急疏散诱导灯 | C12: 按设计技术要求 | D12: 个 | E12: 根据图纸所显示数量(个)计算
A13: 10 | B13: 一位双控开关 | C13: 按设计技术要求 | D13: 个 | E13: 根据图纸所显示数量(个)计算
A14: 11 | B14: 一位开关 | C14: 按设计技术要求 | D14: 个 | E14: 根据图纸所显示数量(个)计算
A15: 12 | B15: 二位开关 | C15: 按设计技术要求 | D15: 个 | E15: 根据图纸所显示数量(个)计算
A16: 13 | B16: 电线 WDZCN-BYJ-4*2.5 | C16: 电缆、电线敷设，含电缆头制安 | D16: 米 | E16: 根据图纸所显示数量(米)计算
A17: 14 | B17: 电线管SC20 | D17: 米 | E17: 根据图纸所显示数量(米)计算
A18: 二 | B18: A2区 | H18: =SUM(H19:H32) -> 0
A19: 1 | B19: 照明配电箱 | C19: 配电安装，含系统图所有元器件安装 | D19: 个 | E19: 根据图纸所显示数量(个)计算
A20: 2 | B20: 照明配电箱 | C20: 配电安装，含系统图所有元器件安装 | D20: 个 | E20: 根据图纸所显示数量(个)计算
A21: 3 | B21: 照明配电箱 | C21: 配电安装，含系统图所有元器件安装 | D21: 个 | E21: 根据图纸所显示数量(个)计算
A22: 4 | B22: 照明配电箱 | C22: 配电安装，含系统图所有元器件安装 | D22: 个 | E22: 根据图纸所显示数量(个)计算
A23: 5 | B23: 照明配电箱 | C23: 配电安装，含系统图所有元器件安装 | D23: 个 | E23: 根据图纸所显示数量(个)计算
A24: 6 | B24: 安全出口指示灯 | C24: 按设计技术要求 | D24: 个 | E24: 根据图纸所显示数量(个)计算
A25: 7 | B25: 疏散指示灯 | C25: 按设计技术要求 | D25: 个 | E25: 根据图纸所显示数量(个)计算
A26: 8 | B26: 应急吸顶灯 | C26: 按设计技术要求 | D26: 个 | E26: 根据图纸所显示数量(个)计算
A27: 9 | B27: 地面应急疏散诱导灯 | C27: 按设计技术要求 | D27: 个 | E27: 根据图纸所显示数量(个)计算
A28: 10 | B28: 一位双控开关 | C28: 按设计技术要求 | D28: 个 | E28: 根据图纸所显示数量(个)计算
A29: 11 | B29: 一位开关 | C29: 按设计技术要求 | D29: 个 | E29: 根据图纸所显示数量(个)计算
A30: 12 | B30: 二位开关 | C30: 按设计技术要求 | D30: 个 | E30: 根据图纸所显示数量(个)计算
A31: 13 | B31: 电线 WDZCN-BYJ-4*2.5 | C31: 电缆、电线敷设，含电缆头制安 | D31: 米 | E31: 根据图纸所显示数量(米)计算
A32: 14 | B32: 电线管SC20 | D32: 米 | E32: 根据图纸所显示数量(米)计算
A33: 三 | B33: 汇总 | C33: (一）+（二） | H33: =H3+H18 -> 0

Sheet 7气体灭火
A1: 气体灭火工程报价清单 （按消防验收规范进行深化--如需）
A2: 序号 | B2: 项目名称 | C2: 项目特征描述 | D2: 单位 | E2: 工程量 计算规则 | F2: 工程量 | G2: 单价 | H2: 合计 | I2: 备注
A3: 一 | B3: A1区 | H3: =SUM(H4:H9) -> 0
A4: 1 | B4: 七氟丙烷气体灭火装置，28.7L，XQQWQ40/16感温电动启动型，悬挂式 | C4: 七氟丙烷气体灭火装置安装 | D4: 套 | E4: 根据图纸所显示数量(套)计算 | F4: 1
A5: 2 | B5: 乙方补充
A6: 3 | B6: 一氧化碳浓度探测器
A7: 4
A8: 5
A9: 6
A10: 二 | B10: A2区 | H10: =SUM(H11:H16) -> 0
A11: 1 | B11: 七氟丙烷气体灭火装置，36.6L，XQQWQ40/16感温电动启动型，悬挂式 | C11: 七氟丙烷气体灭火装置安装 | D11: 套 | E11: 根据图纸所显示数量(套)计算 | F11: 2
A12: 2 | B12: 泄压口 | C12: 泄压口安装 | D12: 个 | E12: 根据图纸所显示数量(个)计算 | F12: 2
A13: 3 | B13: 乙方补充
A14: 4 | B14: 一氧化碳浓度探测器
A15: 5
A16: 6
A17: 三 | B17: 汇总 | C17: (一）+（二） | H17: =H3+H10 -> 0

Sheet 8城市消防联动
A1: 城市消防设施运行状态信息传输部分
A2: 序号 | B2: 项目名称 | C2: 项目特征描述 | D2: 单位 | E2: 工程量 计算规则 | F2: 工程量 | G2: 单价 | H2: 合计 | I2: 备注
A3: 一 | B3: 城市消防联动 | H3: =SUM(H4:H12) -> 0
A4: 1 | B4: 乙方补充
A5: 2 | B5: A1区
A6: 3
A7: 4
A8: 5 | B8: A2区
A9: 6
A10: 7
A11: 8 | B11: 客房区
A12: 9

Sheet 9措施项目费
A1: 措施项目费（本部为包干费用）
A3: 序号 | B3: 项目名称 | C3: 合计（元） | D3: 备注
A4: 1 | B4: 在下面开列的措施项目适用于本工程量清单所包括的全部工程。而分包人填写的款额或单价应被视为适用于根据本合同进行施工的全部工程，包括工程师根据合同条件所指令的的任何增减。
A5: 2 | B5: 当本淸单只填有一个总价金额时，分包人必须提供该项款额的明细分项。
A6: 3 | B6: 当本淸单中任何项目的款额异常高，因而在工程开始时通常要支付大量的款项，则在工程幵始时只付给分包人可提出根据的该部分款额，余下的款额将在工程期间分期支付 。
A7: 4 | B7: 分包人应注意前段的付款规定并不适用于填写在与保险、履约保证书和类似项目有关的款额，尽管分包人在工程开始时支付保费，该款额将只会在工程期间分期支付。
A8: 5 | B8: 当分包人没有在本清单的项目填上或填上款额不足时，该价额或其附加价额应被视为己包括在下文的工程量淸单中开列的计量工程单价内，无论如何，将不会签发任何额外款额。
A9: 6 | B9: 施工措施包含但不限于以下内容：除公司提供既有的设施以外的各种脚手架、机械设备、施工用水用电、成品保护、场地清理、夜间（节假日）施工、高温、冬雨季施工、工伤意外等各种保险等。
A10: 7 | B10: 安全防护、文明施工措施费
A11: 8
A12: 9
A13: 10 | B13: 以上汇总 | C13: =SUM(C4:C12) -> 0

Sheet 补充项目报价表
A1: 补充项目报价表
A3: 序号 | B3: 项目名称 | C3: 品牌 | D3: 规格型号 | E3: 单位 | F3: 单价 | G3: 备注
A4: =+ROW()-3 -> 1 | B4: 消火栓及喷淋管道拆除，包括将垃圾运至指定现场 | E4: 米 | G4: 报价入须于以下项目填报综合单价，用于日后变更签证之用，此部分项目无须计入报价总金额。
A5: =+ROW()-3 -> 2 | B5: 已预埋电线管拆除，包括将垃圾运至指定现场 | E5: 米
A6: =+ROW()-3 -> 3 | B6: 已敷设电线拆除，包括将垃圾运至指定现场 | E6: 米
A7: =+ROW()-3 -> 4 | B7: 喷淋头拆除，包括将垃圾运至指定现场 | E7: 个
A8: =+ROW()-3 -> 5 | B8: 烟感、温感、模块等火灾报警设备拆除，包括将垃圾运至指定现场 | E8: 个
A9: =+ROW()-3 -> 6 | B9: 风口、风阀、百叶拆除，包括将垃圾运至指定现场 | E9: 个
A10: =+ROW()-3 -> 7 | B10: 镀锌钢板、不锈钢板拆除，包括将垃圾运至指定现场 | E10: m2
A11: =+ROW()-3 -> 8 | B11: 防火门拆除，包括将垃圾运至指定现场 | E11: m2
A12: =+ROW()-3 -> 9 | B12: 管道、桥架等设备支架拆除，包括将垃圾运至指定现场 | E12: t
A13: =+ROW()-3 -> 10 | B13: 管道、桥架等设备支架按当地抗震要求制作安装，含防腐刷漆等 | E13: t
A14: =+ROW()-3 -> 11 | B14: 墙体凿槽、切割、修补 | E14: m
A15: =+ROW()-3 -> 12 | B15: 开孔洞 Φ100~Φ300 | E15: 个
A16: =+ROW()-3 -> 13 | B16: 计日工 | E16: 工日 | F16: 8小时/工日
A17: =+ROW()-3 -> 14 | B17: 机械台班（需注明详细机械型号） | E17: 台班 | F17: 8小时/台班
A18: =+ROW()-3 -> 15 | B18: 其他可能发生的项目可继续往下填
A19: =+ROW()-3 -> 16

Sheet 主要材料价目表
A2: 主要材料价目表
A4: 序号 | B4: 项目名称 | C4: 品牌 | D4: 规格型号 | E4: 单位 | F4: 工程量 | G4: 单价 | H4: 合计 | I4: 备注
A5: 1 | I5: 报价人须于以下项目填报材料单价.并注明品牌、型号及规格，包括材料供应价格，包装费，运输费、场外运输损耗、采购及保管费等费用。
A6: 2
A7: 3
A8: 4
A9: 5
A10: 6
A11: 7
A12: 8
A13: 9
A14: 10
A15: 11
A16: 12

Sheet 综合单价分析表
A1: 综合单价分析表
A2: 清单编号： | D2: 项目内容：
A3: 序号 | B3: 项目名称 | C3: 单位 | D3: 消耗量 | E3: 单价 | F3: 合价 | G3: 备注
A4: 一 | B4: 人工费
A5: 1.1 | B5: 制作费
A6: 1.2 | B6: 安装费
A7: 二 | B7: 材料费
A8: 2.1
A9: 2.2
A10: 三 | B10: 机械费
A11: 3.1
A12: 3.2
A13: 四 | B13: 直接费小计 | G13: 一+二+三
A14: 五 | B14: 企业管理费（含1%水电费）
A15: 六 | B15: 利润 | G15: 四+五
A16: 七 | B16: 规费 | G16: 四+五+六
A17: 八 | B17: 税金 | G17: 四+五+六+七
A18: 九 | B18: 合计 | G18: 四+五+六+七+八
