Workbook

Sheet 汇总表
A1: 投标报价清单
A2: 工程：苏地2012-G-81号地块酒店区域智能化工程
A3: 序号 | B3: 系统名称 | C3: 金额（元） | D3: 备注
A4: 1 | B4: 综合布线系统 | C4: =综合布线!I100 -> 0
A5: 2 | B5: 计算机网络系统 | C5: =计算机网络!I71 -> 0
A6: 3 | B6: 程控交换机系统 | C6: =程控!I27 -> 0
A7: 4 | B7: 视频监控系统 | C7: =视频监控!I39 -> 0
A8: 5 | B8: 防盗报警系统 | C8: =报警!I45 -> 0
A9: 6 | B9: 一卡通门禁管理系统 | C9: =门禁!I29 -> 0
A10: 7 | B10: 巡更系统 | C10: =巡更!I11 -> 0
A11: 8 | B11: 停车场系统 | C11: =停车场!I23 -> 0
A12: 9 | B12: 有线电视系统 | C12: =有线电视!I28 -> 0
A13: 10 | B13: 互动电视系统 | C13: =互动电视!I22 -> 0
A14: 11 | B14: 无线对讲系统 | C14: =无线对讲!I18 -> 0
A15: 12 | B15: 信息发布系统 | C15: =信息发布!I14 -> 0
A16: 13 | B16: 智能照明系统 | C16: =照明!I15 -> 0
A17: 14 | B17: 楼宇设备自动控制系统 | C17: =楼控!I57 -> 0
A18: 15 | B18: 能耗计量管理系统 | C18: =计量!I27 -> 0
A19: 16 | B19: 机房工程系统 | C19: =机房工程!I104 -> 0
A20: 17 | B20: 客控系统 | C20: =客控!I132 -> 0
A21: 18 | B21: 音视频系统 | C21: =音视频!I157 -> 0
A22: 19 | B22: 综合管路 | C22: =综合管路!I23 -> 0
A23: 20 | B23: 措施项目费 | C23: =措施项目费!C15 -> 0
A24: 工程总价： | C24: =SUM(C4:C23) -> 0 | D24: 以上汇总
A26: 报价单位：（盖章） | C26: 法定代表人或委托代理人：（签字）
A27: 日期： 年 月 日

Sheet 报价须知
A1: 工程量清单报价填报须知
A2: 1.本工程量清单应连同分包合同协议书、合同条件、工程规范和合同图纸一起参阅，填报价时均已全面考虑了合同、规范、图纸、施工现场等所有风险因素。中标后不得因此而增加相关费用。
A3: 2. 工程量清单及其计价格式中所有要求签字、盖章的地方必须由规定的单位和人员签字、盖章。
A4: 3. 工程量清单及其计价格式中的任何内容不得随意删除或涂改。
A5: 4. 清单中未填报的单价和合价，视为此项费用已包含在工程量清单的其他单价和合价中。
A6: 5. 本工程量清单填报须知包括附件一和附件二两部分内容。
A7: 6. 报价与单价组成明细表内填写的综合单价不一致，应以工程量清单内填报的综合单价为准价人须按报价须知附录三单价组成明细表的格式填报综合单价组成明细。若工程量清单内填报的综合单。
A8: 7. 在“项目名称”内，若以“按规定”作为某项的“项目特征”要求的描述时。‘按规定’一词是指有关的项目特征应符合图纸及规范的有关要求，为免混淆，无论项目名称内是否有“按规定”的字眼，均不应影响对本须知第8条规定的执行。
A9: 8. 除另有规定外，所有材料设备和操作工艺必须符合有关技术规范条款和图纸的规定，工程量清单内的工程量全部是根据发包图纸及此计量原则计算，报价人填入工程量清单内的单价应包括按照有关技术规范条款和图纸所要求来完成所有工作之费用。
A10: 9. 本须知应作为工程量清单报价的组成部份。
A11: 10. 综合单价需考虑垃圾外运费用，具体情况满足当地旅游度假区要求。
A12: 11. 综合单价需考虑政府要求的所有投保费用。
... A98: (v) 按规范提供髹漆彩色标记。

Sheet 综合布线
A1: 综合布线系统
A2: 工程：苏地2012-G-81号地块酒店区域智能化工程
A3: 序号 | B3: 项目名称描述 | C3: 技术参数 | D3: 单位 | E3: 工程量A | F3: 单价（元） | H3: 总价（元） | J3: 备注
F4: 主材B | G4: 安装费C | H4: 综合单价D=B+C | I4: 合价E=A*D
A5: A | B5: 客用网布线 | I5: =SUM(I6:I47) -> 0
A6: 一 | B6: 工作区子系统
A7: 1 | B7: 单口面板 | C7: 技术参数：单口方形模块面板(含边框/标签),带防尘盖,白色 要求产品供应商通过ISO9001质量管理认证、ISO14001环境管理体系认证、OHSAS18001职业健康管理体系认证和全国工业生产许可证 | D7: 个 | E7: 204 | H7: =F7+G7 -> 0 | I7: =H7*E7 -> 0
A8: 2 | B8: 双口面板 | C8: 双口方模块面板(含边框/标签),带防尘盖,白色 要求产品供应商通过ISO9001质量管理认证、ISO14001环境管理体系认证、OHSAS18001职业健康管理体系认证和全国工业生产许可证 | D8: 个 | E8: 150 | H8: =F8+G8 -> 0 | I8: =H8*E8 -> 0
A9: 3 | B9: 6类非屏蔽模块 | C9: 产品规格：CAT6 UTP RJ45信息模块插座，可选T568A、T568B打线方式； 性能要求：六类信息插座(CAT6)能够满足高速数据及语音信号的传输，电气性能达到六类标准TIA/EIA CAT6的要求，测试指标达到250MHz。为模组成式8针RJ45插座； 电缆连接标准须印有TIA/EIA568A和568B两种色码； 产品特征：拔插次数≥750次，磷青铜，有50μm镀金层和100μm镀镍层； RJ45 8针触点：符合FCC part 68, Subpart F 和 IEC-60603-7标准，可卡接22到24AWG线规的导体； 标准：完全符合AS/NZS 3080：2003, ISO/IEC11801 2002版本和ANSI/TIA/EIA-568-C系列连接硬件标准的要求；可采用一字打线和一次性压接8根线的端接方式； 符合UL 94V-0规格； 传输带宽：CAT6≥250MHz； 透明IDC固定后盖有助于用户检查端接情况，有利于电缆固定，以提高电缆的应力消除能力； 需提供了多种颜色选择，便于更好地识别信道； 模块上正面刻印有品牌LOGO，右下角均刻印有表示类型的字母数字，侧面均印有生产唯一序号和生产日期，便于质量回溯。 | D9: 个 | E9: 514 | H9: =F9+G9 -> 0 | I9: =H9*E9 -> 0
A10: 4 | B10: 双口地插 | C10: 弹出阻尼式双联六类电脑地插(铜质光面) | D10: 个 | E10: 5 | H10: =F10+G10 -> 0 | I10: =H10*E10 -> 0
A11: 5 | B11: 客房弱电箱400*400（含熔接盒，电源插座）（别墅式） | C11: 4口SC ST FC单模满配桌面式光纤终端盒 光缆尾纤熔接盒 SC接口 单模 6位10A输入输出PDU | D11: 个 | E11: 52 | H11: =F11+G11 -> 0 | I11: =H11*E11 -> 0
A12: 6 | B12: 客房弱电箱400*600（含熔接盒，电源插座）（集中式） | C12: 4口SC ST FC单模满配桌面式光纤终端盒 光缆尾纤熔接盒 SC接口 单模 6位10A输入输出PDU | D12: 个 | E12: 15 | H12: =F12+G12 -> 0 | I12: =H12*E12 -> 0
A13: 二 | B13: 水平、主干子系统 | H13: =F13+G13 -> 0 | I13: =H13*E13 -> 0
A14: 1 | B14: 6类4对非屏蔽双绞线，低烟无卤 | C14: 产品规格：Cat6非屏蔽双绞线缆。 性能：23AWG线规的电缆满足250MHz条件下的传输要求，并采用带十字支撑架结构，可以有效隔离对绞线对以优化NEXT和ELFEXT性能，以保证整个布线系统的可靠性及稳定性； 标准：符合Category 6 ANSI/TIA/EIA-568-C2-1 and ISO/IEC 11801标准并可提供ETL或UL,信产部认证及相关测试报告； 芯线对数及屏蔽层：4对，每芯带有色条区别，内有线缆撕裂绳； 带宽要求：Cat6≥250MHz，支持1000 Base-T以及1000Base-TX局域网以及宽带视频应用； 电气特性：1.0-100.0MHz输入阻抗（欧姆） 100±6，100-250MHz输入阻抗（欧姆） 100±6，1.0-250.0MHz时延偏离(ns/100m) ≤45，线对对地的电容不平衡(pF/100m) ≤330，20°C条件下的导线最大直流电阻（欧姆/km）为73.2，电阻不平衡（%） ≤5； 认证：低烟无卤线缆满足 IEC60332、IEC 61034、IEC 60754标准要求，并在线缆外皮上标注符合的国际标准名称； 护套标识：LSZH护套，外护套印有品牌、型号规格、线规、屏蔽类型、标准号、缆型、生产序列号等信息，字迹清晰、不褪色、容易辨别，用于产品的质量回溯，并印有逆序长度标注(305~0 meter)以方便识别线缆长度； 包装：标准纸箱包装，外包装箱上印刷条形码等标识以方便业主及监理单位在不利用任何专业检测设备的前提下，就可以方便、简易、迅速的判断供应的货物是否为原厂原装正品； 水平线缆为低烟无卤LSZH产品，符合IEC60332-1阻燃等级，并提供中国信息产业部授权机构出具的第三方燃烧测试报告； 链路支持4连接，符合ANSI/TIA 568-C标准，并提供中国信息产业部授权检测机构出具的第三方传输性能测试报告； 产品需要满足元器件级别测试认证，其中双绞线，信息模块，跳线均有中国信息产业部授权检测机构或ETL出具的第三方传输性能测试报告。提供CE、ROHS、UL认证证书 | D14: 米 | E14: =305*76*0.8 -> 18544 | H14: =F14+G14 -> 0 | I14: =H14*E14 -> 0
A15: 2 | B15: 室外单模光缆，4芯 | C15: OS2室外轻铠单模, 4 芯, 9um 外护套材料：聚乙烯（PE） 结构：采用中心管式 护套厚度：1.0±0.1mm 光缆外径：8.6±0.2mm 光缆加强件：两根夹带平行高强度磷化钢丝 钢丝直径：1.0±0.02mm 铠装层：双面镀铬涂塑钢带（PSP）纵包 松套管材质：PBT 纤芯颜色：蓝、橙、绿、棕、灰、白、红、黑、黄、紫、粉红、青绿 芯数：2-12芯 光纤类型：OS2单模光纤 衰减系数：@1310nm≤0.36dB/km；@1550≤0.22dB/km 敷设方式：管道、非自承式架空适用，进局、槽道、电缆沟可用 敷设最小弯曲半径：动态弯曲半径≥20倍光缆外径 静态弯曲半径≥10倍光缆外径 敷设拉力：建议敷设时短期拉力≤1500N 使用拉力：建议使用时长期拉力≤600N 敷设压扁力：建议敷设时短期压扁力≤1000N 使用压扁力：建议使用时长期压扁力≤300N 使用温度：-20～60℃ 要求产品供应商通过ISO9001质量管理认证、ISO14001环境管理体系认证、OHSAS18001职业健康管理体系认证和全国工业生产许可证 提供CE、ROHS认证证书 | D15: 米 | E15: =26800*0.8 -> 21440 | H15: =F15+G15 -> 0 | I15: =H15*E15 -> 0
A16: 3 | B16: 室内万兆多模光缆，8芯，9/125um，低烟无卤(LSZH) | C16: OM3 室内多模 LSZH, 8 芯 护套材质：LSZH（水绿/浅绿） 12芯 光缆外径：6.8±0.3mm 护套厚度：0.6±0.1mm 涂层直径：245±7μm 包层直径：125±1.0μm 纤芯直径：50±2.5mm 加强构件材质：聚酯纱 纤芯颜色：蓝、橙、绿、棕、灰、白、红、黑、黄、紫、粉红、青绿 光纤类型：OM3多模光纤 衰减系数：@850nm≤3.50dB/km；@1300≤1.5dB/km 敷设方式：室内穿管、桥架敷设 敷设最小弯曲半径：动态弯曲半径≥20倍光缆外径 静态弯曲半径≥10倍光缆外径 敷设拉力：敷设时最大短期拉力≤440N 使用拉力：敷设时最大长期拉力≤130N 敷设压扁力：敷设时短期压扁力≤1000N 使用压扁力：建议使用时长期压扁力≤200N 使用温度：-20～60℃ 要求产品供应商通过ISO9001质量管理认证、ISO14001环境管理体系认证、OHSAS18001职业健康管理体系认证和全国工业生产许可证 提供CE、ROHS认证证书 | D16: 米 | E16: 1100 | H16: =F16+G16 -> 0 | I16: =H16*E16 -> 0
A17: 三 | B17: 管理子系统 | H17: =F17+G17 -> 0 | I17: =H17*E17 -> 0
A18: 1 | B18: 24口非屏蔽配线架 | C18: 产品规格：六类非屏蔽齐平式配线架，可选T568A和T568B连线方案； 性能：预装不带防尘盖六类信息模块，24口RJ45模块化配线架，每端口自带防尘盖并附带透明接线固定后盖，以提高线缆的应力消除能力，确保模块端接的长期可靠性。 标准：完全符合AS/NZS 3080：2003, ISO/IEC11801 2002版本2和ANSI/TIA/EIA-568-C系列连接硬件标准的要求 结构：可拆卸的后侧理线支架，后侧理线支架可以在端接之后将其安装好； 安装方式：与标准的19”机柜/机架兼容。 标识：前方的透明标签系统可以快速方便地识别信道； 结构：带有金属粉末涂层的框架结构，坚固耐用耐腐蚀，保护配线架免受腐蚀和刮伤。可拆卸后部电缆管理架，附带所有安装和电缆固定的完整套件，包括魔术贴扎带用于线缆捆扎。 安装：19”机柜式安装，高度为1U，配线架的背后要求配备托线架，用于绑扎双绞线，可确保安装的电缆整齐同时消除应力，提高模块端接的长期可靠性； | D18: 个 | E18: 77 | H18: =F18+G18 -> 0 | I18: =H18*E18 -> 0
A19: 2 | B19: 6类标准跳线 | C19: 规格：CAT6 UTP 4对标准RJ45/RJ45信息软跳线Cat6非屏蔽跳线； 标准：完全符合AS/NZS 3080：2003,ISO/IEC 11801第2版2002 和ANSI/TIA/EIA-568-B系列连接硬件标准要求； 线规：24AWG多芯信息软跳线；线缆带有十字骨架用于分隔线对，保证跳线弯曲缠绕的情况下仍然有出色的近段串扰和远端串扰性能； 耐用性：可拔插750次以上；RJ45接头采用聚碳酸脂，FCC第68部分第F节 UL 94V-0； 触点材料：磷青铜，有50um镀金层和100um镀镍层； 传输带宽：CAT6≥250MHz； 接触阻抗：最大为10mΩ； 长度要求：2米规格的插接线，两端接头采用全模制的RJ45接头，适用于所有CAT6配线架，确保先对的完整性，提高应力消除能力； 认证：CM等UL认证防火等级须在线缆外皮上印有UL文件编号，并且在线缆包装上贴有UL专属的镭射标签； 跳线颜色：蓝色。要求产品通过ISO9001质量管理认证、ISO14001环境管理体系认证、OHSAS18001职业健康管理体系认证和全国工业生产许可证 要求铜缆布线中的线缆、配线架、模块和面板、跳线、连接器等必须为全系列同一品牌的产品，并提供6类非屏蔽全链路产品检验报告 | D19: 根 | E19: 663 | H19: =F19+G19 -> 0 | I19: =H19*E19 -> 0
A20: 3 | B20: 理线架 | C20: 塑料理线器, 适合六类系统理线理线器 整体材质：钢架+黑色喷塑 可容纳24根网络跳线或者光纤跳线 安装高度：1U 安装方式：机柜螺丝安装 使用温度： -20～70℃ 分12档金属与非金属类型 湿度：85%（温度85℃±3℃） 要求产品供应商通过ISO9001质量管理认证、ISO14001环境管理体系认证、OHSAS18001职业健康管理体系认证和全国工业生产许可证 | D20: 个 | E20: 13 | H20: =F20+G20 -> 0 | I20: =H20*E20 -> 0
A21: 4 | B21: 24口光纤配线架 | C21: 预端接配线箱适用于19英寸标准机架或机柜，1U和4U高度可选，采用金属材质的冷轧钢板，坚固耐用，符合EIA-310-D。 配线箱提供前侧理线空间，无需提供额外理线器。 配线箱采用可前后抽拉的结构设计，方便前后线缆管理。 提供“普通”和“高密度”两种尺寸的MTP预端接配线箱。普通方案的MTP预端接配线箱配套普通MTP模块，可实现1U最高72芯，4U最高288芯的应用。高密度方案的MTP预端接配线箱配套小型MTP模块，可实现1U最高96芯的应用。 预端接配线箱还能支持普通LC/SC耦合器板，支持预端接和熔接混用；单模和多模类型可选。要求产品供应商通过ISO9001质量管理认证、ISO14001环境管理体系认证、OHSAS18001职业健康管理体系认证和全国工业生产许可证 | D21: 个 | E21: 3 | H21: =F21+G21 -> 0 | I21: =H21*E21 -> 0
A22: 5 | B22: 多模跳线 | C22: LC-LC OM3双工多模 光跳线 3m 连接器插针类型：陶瓷氧化锆 插头材质：高耐冲击性防火阻燃型PC，符合UL94V-0 插针端面：UPC端面 品牌化尾套设计，便于用户识别快速原装正品 连接器插入损耗：≤0.2dB/每接口 最大插入损耗：≤0.3dB/每接口 重复性：≤0.1dB 互换性：≤0.20dB 回波损耗 PC≥45，UPC ≥ 50dB，APC ≥ 60dB； 拔插次数：≥1000次 线缆外径：2.0mm（单芯）、2*2.0mm（双芯） 护套材质：PVC /LSZH 护套颜色可选：多模OM1/OM2橙色，单模OS2黄色，万兆多模OM3/OM4水绿色/浅绿色 工厂预端接并100%测试合格，确保产品质量及传输性能 使用弯曲半径：建议使用弯曲半径>10倍跳线外径 工作温度：-40～+80℃ 储存温度：-20～+85℃ 要求产品供应商通过ISO9001质量管理认证、ISO14001环境管理体系认证、OHSAS18001职业健康管理体系认证和全国工业生产许可证 | D22: 根 | E22: 4 | H22: =F22+G22 -> 0 | I22: =H22*E22 -> 0
A23: 6 | B23: 多模适配器板 | C23: 1U 高密度熔纤方案适配器板，含6个双工多模LC适配器支持FC、LC、ST、SC四种类型耦合器的卡接 单个适配器板支持卡接LC双工耦合器最大支持12芯 | D23: 个 | E23: 4 | H23: =F23+G23 -> 0 | I23: =H23*E23 -> 0
A24: 7 | B24: 多模尾纤 | C24: LC OM3多模尾纤 1.0m 连接器插针类型：陶瓷氧化锆 插头材质：高耐冲击性防火阻燃型PC，符合UL94V-0 插针端面：UPC端面 品牌化尾套设计，便于用户识别快速原装正品 连接器插入损耗：≤0.2dB/每接口 最大插入损耗：≤0.3dB/每接口 重复性：≤0.1dB 互换性：≤0.20dB 回波损耗 PC≥45，UPC ≥ 50dB，APC ≥ 60dB； 拔插次数：≥1000次 线缆外径：2.0mm（单芯）、2*2.0mm（双芯） 护套材质：PVC /LSZH 护套颜色可选：多模OM1/OM2橙色，单模OS2黄色，万兆多模OM3/OM4水绿色/浅绿色 工厂预端接并100%测试合格，确保产品质量及传输性能 使用弯曲半径：建议使用弯曲半径>10倍跳线外径 工作温度：-40～+80℃ 储存温度：-20～+85℃ 要求产品供应商通过ISO9001质量管理认证、ISO14001环境管理体系认证、OHSAS18001职业健康管理体系认证和全国工业生产许可证 | D24: 根 | E24: 48 | H24: =F24+G24 -> 0 | I24: =H24*E24 -> 0
A25: 8 | B25: 单模跳线 | C25: LC-LC OS2双工单模 光跳线 3m 连接器插针类型：陶瓷氧化锆 插头材质：高耐冲击性防火阻燃型PC，符合UL94V-0 插针端面：UPC端面 品牌化尾套设计，便于用户识别快速原装正品 连接器插入损耗：≤0.2dB/每接口 最大插入损耗：≤0.3dB/每接口 重复性：≤0.1dB 互换性：≤0.20dB 回波损耗 PC≥45，UPC ≥ 50dB，APC ≥ 60dB； 拔插次数：≥1000次 线缆外径：2.0mm（单芯）、2*2.0mm（双芯） 护套材质：PVC /LSZH 护套颜色可选：多模OM1/OM2橙色，单模OS2黄色，万兆多模OM3/OM4水绿色/浅绿色 工厂预端接并100%测试合格，确保产品质量及传输性能 使用弯曲半径：建议使用弯曲半径>10倍跳线外径 工作温度：-40～+80℃ 储存温度：-20～+85℃ 要求产品供应商通过ISO9001质量管理认证、ISO14001环境管理体系认证、OHSAS18001职业健康管理体系认证和全国工业生产许可证 | D25: 根 | E25: 34 | H25: =F25+G25 -> 0 | I25: =H25*E25 -> 0
A26: 9 | B26: 单模适配器板 | C26: 1U 高密度熔纤方案适配器板，含6个双工单模LC适配器 支持FC、LC、ST、SC四种类型耦合器的卡接 单个适配器板支持卡接LC双工耦合器最大支持12芯 要求产品供应商通过ISO9001质量管理认证、ISO14001环境管理体系认证、OHSAS18001职业健康管理体系认证和全国工业生产许可证 | D26: 个 | E26: 23 | H26: =F26+G26 -> 0 | I26: =H26*E26 -> 0
A27: 10 | B27: 单模尾纤 | C27: LC OS2单模尾纤 1.0m 连接器插针类型：陶瓷氧化锆 插头材质：高耐冲击性防火阻燃型PC，符合UL94V-0 插针端面：UPC端面 品牌化尾套设计，便于用户识别快速原装正品 连接器插入损耗：≤0.2dB/每接口 最大插入损耗：≤0.3dB/每接口 重复性：≤0.1dB 互换性：≤0.20dB 回波损耗 PC≥45，UPC ≥ 50dB，APC ≥ 60dB； 拔插次数：≥1000次 线缆外径：2.0mm（单芯）、2*2.0mm（双芯） 护套材质：PVC /LSZH 护套颜色可选：多模OM1/OM2橙色，单模OS2黄色，万兆多模OM3/OM4水绿色/浅绿色 工厂预端接并100%测试合格，确保产品质量及传输性能 使用弯曲半径：建议使用弯曲半径>10倍跳线外径 工作温度：-40～+80℃ 储存温度：-20～+85℃ 要求产品供应商通过ISO9001质量管理认证、ISO14001环境管理体系认证、OHSAS18001职业健康管理体系认证和全国工业生产许可证 | D27: 根 | E27: 268 | H27: =F27+G27 -> 0 | I27: =H27*E27 -> 0
A28: 11 | B28: 42U标准机柜（600*600*2000） | C28: 前玻璃后钣金门机柜 配3块隔板 1个PDU 1套风扇 支脚4个 螺丝40套 42U玻璃门标准机柜2000*600*600，单开钢化玻璃门，前后带高级旋把门锁，后门双开平板网孔门，承重800KG，机柜层板数量3，机柜M6螺丝数量40套，顶部风扇数量2，普通六位PDU1个 接地保护：机柜预留接地装置，满足机房使用要求； 机柜表面采用IP23级静电喷塑处理，生产流水线一次成形，具有较强的防潮、防止碰伤、腐蚀， 各个部位边缘质地均匀、光滑精致，避免了对线缆和设备的摩擦损伤 要求产品供应商通过ISO9001质量管理认证、ISO14001环境管理体系认证、OHSAS18001职业健康管理体系认证和全国工业生产许可证 | D28: 台 | E28: 4 | H28: =F28+G28 -> 0 | I28: =H28*E28 -> 0
A29: 四 | B29: 建筑群子系统 | H29: =F29+G29 -> 0 | I29: =H29*E29 -> 0
A30: 1 | B30: 24口光纤配线架 | C30: 预端接配线箱适用于19英寸标准机架或机柜，1U和4U高度可选，采用金属材质的冷轧钢板，坚固耐用，符合EIA-310-D。 配线箱提供前侧理线空间，无需提供额外理线器。 配线箱采用可前后抽拉的结构设计，方便前后线缆管理。 提供“普通”和“高密度”两种尺寸的MTP预端接配线箱。普通方案的MTP预端接配线箱配套普通MTP模块，可实现1U最高72芯，4U最高288芯的应用。高密度方案的MTP预端接配线箱配套小型MTP模块，可实现1U最高96芯的应用。 预端接配线箱还能支持普通LC/SC耦合器板，支持预端接和熔接混用；单模和多模类型可选。 要求产品供应商通过ISO9001质量管理认证、ISO14001环境管理体系认证、OHSAS18001职业健康管理体系认证和全国工业生产许可证 | D30: 个 | E30: 13 | H30: =F30+G30 -> 0 | I30: =H30*E30 -> 0
A31: 2 | B31: 理线架 | C31: 塑料理线器, 适合六类系统理线理线器 整体材质：钢架+黑色喷塑 可容纳24根网络跳线或者光纤跳线 安装高度：1U 安装方式：机柜螺丝安装 使用温度： -20～70℃ 分12档金属与非金属类型 湿度：85%（温度85℃±3℃） 要求产品供应商通过ISO9001质量管理认证、ISO14001环境管理体系认证、OHSAS18001职业健康管理体系认证和全国工业生产许可证 | D31: 个 | E31: 13 | H31: =F31+G31 -> 0 | I31: =H31*E31 -> 0
A32: 3 | B32: 单模跳线 | C32: LC-LC OS2双工单模 光跳线 3m 连接器插针类型：陶瓷氧化锆 插头材质：高耐冲击性防火阻燃型PC，符合UL94V-0 插针端面：UPC端面 品牌化尾套设计，便于用户识别快速原装正品 连接器插入损耗：≤0.2dB/每接口 最大插入损耗：≤0.3dB/每接口 重复性：≤0.1dB 互换性：≤0.20dB 回波损耗 PC≥45，UPC ≥ 50dB，APC ≥ 60dB； 拔插次数：≥1000次 线缆外径：2.0mm（单芯）、2*2.0mm（双芯） 护套材质：PVC /LSZH 护套颜色可选：多模OM1/OM2橙色，单模OS2黄色，万兆多模OM3/OM4水绿色/浅绿色 工厂预端接并100%测试合格，确保产品质量及传输性能 使用弯曲半径：建议使用弯曲半径>10倍跳线外径 工作温度：-40～+80℃ 储存温度：-20～+85℃ 要求产品供应商通过ISO9001质量管理认证、ISO14001环境管理体系认证、OHSAS18001职业健康管理体系认证和全国工业生产许可证 | D32: 根 | E32: 35 | H32: =F32+G32 -> 0 | I32: =H32*E32 -> 0
A33: 4 | B33: 单模适配器板 | C33: 1U 高密度熔纤方案适配器板，含6个双工单模LC适配器 支持FC、LC、ST、SC四种类型耦合器的卡接 单个适配器板支持卡接LC双工耦合器最大支持12芯 要求产品供应商通过ISO9001质量管理认证、ISO14001环境管理体系认证、OHSAS18001职业健康管理体系认证和全国工业生产许可证 | D33: 个 | E33: 23 | H33: =F33+G33 -> 0 | I33: =H33*E33 -> 0
A34: 5 | B34: 单模尾纤 | C34: LC OS2单模尾纤 1.0m 连接器插针类型：陶瓷氧化锆 插头材质：高耐冲击性防火阻燃型PC，符合UL94V-0 插针端面：UPC端面 品牌化尾套设计，便于用户识别快速原装正品 连接器插入损耗：≤0.2dB/每接口 最大插入损耗：≤0.3dB/每接口 重复性：≤0.1dB 互换性：≤0.20dB 回波损耗 PC≥45，UPC ≥ 50dB，APC ≥ 60dB； 拔插次数：≥1000次 线缆外径：2.0mm（单芯）、2*2.0mm（双芯） 护套材质：PVC /LSZH 护套颜色可选：多模OM1/OM2橙色，单模OS2黄色，万兆多模OM3/OM4水绿色/浅绿色 工厂预端接并100%测试合格，确保产品质量及传输性能 使用弯曲半径：建议使用弯曲半径>10倍跳线外径 工作温度：-40～+80℃ 储存温度：-20～+85℃ 要求产品供应商通过ISO9001质量管理认证、ISO14001环境管理体系认证、OHSAS18001职业健康管理体系认证和全国工业生产许可证 | D34: 根 | E34: 268 | H34: =F34+G34 -> 0 | I34: =H34*E34 -> 0
A35: 6 | B35: 42U标准机柜（600*600*2000） | C35: 前玻璃后钣金门机柜 配3块隔板 1个PDU 1套风扇 支脚4个 螺丝40套 42U玻璃门标准机柜2000*600*600，单开钢化玻璃门，前后带高级旋把门锁，后门双开平板网孔门，承重800KG，机柜层板数量3，机柜M6螺丝数量40套，顶部风扇数量2，普通六位PDU1个 接地保护：机柜预留接地装置，满足机房使用要求； 机柜表面采用IP23级静电喷塑处理，生产流水线一次成形，具有较强的防潮、防止碰伤、腐蚀， 各个部位边缘质地均匀、光滑精致，避免了对线缆和设备的摩擦损伤 要求产品供应商通过ISO9001质量管理认证、ISO14001环境管理体系认证、OHSAS18001职业健康管理体系认证和全国工业生产许可证 | D35: 台 | E35: 1 | H35: =F35+G35 -> 0 | I35: =H35*E35 -> 0
A36: 五 | B36: 设备间子系统 | H36: =F36+G36 -> 0 | I36: =H36*E36 -> 0
A37: 1 | B37: 24口光纤配线架 | C37: 预端接配线箱适用于19英寸标准机架或机柜，1U和4U高度可选，采用金属材质的冷轧钢板，坚固耐用，符合EIA-310-D。 配线箱提供前侧理线空间，无需提供额外理线器。 配线箱采用可前后抽拉的结构设计，方便前后线缆管理。 提供“普通”和“高密度”两种尺寸的MTP预端接配线箱。普通方案的MTP预端接配线箱配套普通MTP模块，可实现1U最高72芯，4U最高288芯的应用。高密度方案的MTP预端接配线箱配套小型MTP模块，可实现1U最高96芯的应用。 预端接配线箱还能支持普通LC/SC耦合器板，支持预端接和熔接混用；单模和多模类型可选。要求产品供应商通过ISO9001质量管理认证、ISO14001环境管理体系认证、OHSAS18001职业健康管理体系认证和全国工业生产许可证 | D37: 个 | E37: 3 | H37: =F37+G37 -> 0 | I37: =H37*E37 -> 0
A38: 2 | B38: 理线架 | C38: 塑料理线器, 适合六类系统理线理线器 整体材质：钢架+黑色喷塑 可容纳24根网络跳线或者光纤跳线 安装高度：1U 安装方式：机柜螺丝安装 使用温度： -20～70℃ 分12档金属与非金属类型 湿度：85%（温度85℃±3℃） 要求产品供应商通过ISO9001质量管理认证、ISO14001环境管理体系认证、OHSAS18001职业健康管理体系认证和全国工业生产许可证 | D38: 个 | E38: 3 | H38: =F38+G38 -> 0 | I38: =H38*E38 -> 0
A39: 3 | B39: 多模跳线 | C39: LC-LC OM3双工多模 光跳线 3m 连接器插针类型：陶瓷氧化锆 插头材质：高耐冲击性防火阻燃型PC，符合UL94V-0 插针端面：UPC端面 品牌化尾套设计，便于用户识别快速原装正品 连接器插入损耗：≤0.2dB/每接口 最大插入损耗：≤0.3dB/每接口 重复性：≤0.1dB 互换性：≤0.20dB 回波损耗 PC≥45，UPC ≥ 50dB，APC ≥ 60dB； 拔插次数：≥1000次 线缆外径：2.0mm（单芯）、2*2.0mm（双芯） 护套材质：PVC /LSZH 护套颜色可选：多模OM1/OM2橙色，单模OS2黄色，万兆多模OM3/OM4水绿色/浅绿色 工厂预端接并100%测试合格，确保产品质量及传输性能 使用弯曲半径：建议使用弯曲半径>10倍跳线外径 工作温度：-40～+80℃ 储存温度：-20～+85℃ 要求产品供应商通过ISO9001质量管理认证、ISO14001环境管理体系认证、OHSAS18001职业健康管理体系认证和全国工业生产许可证 | D39: 根 | E39: 4 | H39: =F39+G39 -> 0 | I39: =H39*E39 -> 0
A40: 4 | B40: 多模适配器板 | C40: 1U 高密度熔纤方案适配器板，含6个双工多模LC适配器 支持FC、LC、ST、SC四种类型耦合器的卡接 单个适配器板支持卡接LC双工耦合器最大支持12芯 | D40: 个 | E40: 4 | H40: =F40+G40 -> 0 | I40: =H40*E40 -> 0
...

Sheet 计算机网络
A1: 计算机网络系统
A2: 工程：苏地2012-G-81号地块酒店区域智能化工程
A3: 序号 | B3: 项目名称描述 | C3: 技术参数 | D3: 单位 | E3: 工程量A | F3: 单价（元） | H3: 总价（元） | J3: 备注
F4: 主材B | G4: 安装费C | H4: 综合单价D=B+C | I4: 合价E=A*D
A5: A | B5: 客用网 | I5: =SUM(I6:I37) -> 0
A6: 一 | B6: 出口设备
A7: 1 | B7: 防火墙 | C7: 全新下一代千兆防火墙，1U高度，可选外置电源，提供1个千兆管理口，1个console接口；固化42个千兆电口；2个SFP千兆光口；内置64G硬盘；1个USB口；可选配病毒库、攻击库、应用识别库、垃圾邮件库、网页分类库特征库升级服务（可选配光模块：MINI-GBIC-LX-SM1310 V7.0、GE-ESFP-LX SM 1310 V6.1、GE-ESFP-SX MM850 V7.0、MINI-GBIC-SX MM850 V6.1、MINI-GBIC-SX MM850 V7.0、MINI-GBIC-SX | D7: 台 | E7: 1 | H7: =F7+G7 -> 0 | I7: =E7*H7 -> 0
C8: RG-WALL 1600-M5100病毒库、攻击库、应用识别库、垃圾邮件库、网页分类库特征库升级服务授权1年 | D8: 套 | E8: 3 | H8: =F8+G8 -> 0 | I8: =E8*H8 -> 0
A9: 二 | B9: 核心交换机 | H9: =F9+G9 -> 0 | I9: =E9*H9 -> 0
A10: 1 | B10: 核心交换机 | C10: S7805C主机箱，共5个槽位，包含2个引擎槽位和3个业务槽位 | D10: 台 | E10: 2 | H10: =F10+G10 -> 0 | I10: =E10*H10 -> 0
C11: S7805C高性能一代主控引擎 | D11: 块 | E11: 4 | H11: =F11+G11 -> 0 | I11: =E11*H11 -> 0
C12: 通用电源模块（交流，300W），适用S7805C及S7505 | D12: 块 | E12: 4 | H12: =F12+G12 -> 0 | I12: =E12*H12 -> 0
C13: EA系列24端口千兆以太网电口(RJ45)+24端口千兆以太网光口(SFP,LC)+4端口万兆以太网光口(SFP+,LC) | D13: 块 | E13: 2 | H13: =F13+G13 -> 0 | I13: =E13*H13 -> 0
C14: EA系列24端口千兆以太网光口(SFP,LC)+12端口千兆以太网电口复用(RJ45)+4端口万兆以太网光口(SFP+,LC) | D14: 块 | E14: 2 | H14: =F14+G14 -> 0 | I14: =E14*H14 -> 0
A15: 2 | B15: 千兆多模光模块 | C15: 1000BASE-SX mini GBIC转换模块（850nm），500m | D15: 个 | E15: 8 | H15: =F15+G15 -> 0 | I15: =E15*H15 -> 0
A16: 3 | B16: 万兆单模光模块 | C16: 万兆LC接口模块（1310nm），10km，适用于SFP+接口 | D16: 个 | E16: 2 | H16: =F16+G16 -> 0 | I16: =E16*H16 -> 0
A17: 4 | B17: 万兆多模光模块 | C17: 万兆LC接口模块（62.5/125μm：33米；50/125μm：66米；模态带宽为2000MHz•km时传输300米），适用于SFP+接口 | D17: 个 | E17: 2 | H17: =F17+G17 -> 0 | I17: =E17*H17 -> 0
A18: 三 | B18: 汇聚交换机 | H18: =F18+G18 -> 0 | I18: =E18*H18 -> 0
A19: 1 | B19: 48口汇聚交换机（满足至少36光） | C19: 48口100/1000M SFP光口，4个1G/10G SFP+光口，2个扩展槽，2个模块化电源插槽，至少需要购买1个RG-PA150I-F电源模块 | D19: 台 | E19: 2 | H19: =F19+G19 -> 0 | I19: =E19*H19 -> 0
C20: 150W交流电源模块，适用于RG-S5750C-48SFP4XS-H交换机，必配1块，支持1+1电源冗余 | D20: 块 | E20: 4 | H20: =F20+G20 -> 0 | I20: =E20*H20 -> 0
A21: 2 | B21: 千兆单模光模块 | C21: 1000BASE-LX mini GBIC转换模块（1310nm），10km | D21: 个 | E21: 67 | H21: =F21+G21 -> 0 | I21: =E21*H21 -> 0
A22: 3 | B22: 万兆单模光模块 | C22: 万兆LC接口模块（1310nm），10km，适用于SFP+接口 | D22: 个 | E22: 2 | H22: =F22+G22 -> 0 | I22: =E22*H22 -> 0
A23: 四 | B23: 接入层交换机 | H23: =F23+G23 -> 0 | I23: =E23*H23 -> 0
A24: 1 | B24: 8口POE千兆交换机 | C24: 8个10/100/1000M自适应电口，2个100M/1G SFP光口，固化单交流电源，，无风扇，支持PoE/PoE+远程供电，125W PoE供电 | D24: 台 | E24: 53 | H24: =F24+G24 -> 0 | I24: =E24*H24 -> 0
A25: 2 | B25: 24口千兆接入层交换机 | C25: 24口10/100/1000M自适应电口，4个SFP光口，固化单交流电源，无风扇 | D25: 台 | E25: 2 | H25: =F25+G25 -> 0 | I25: =E25*H25 -> 0
A26: 3 | B26: 48口千兆接入层交换机 | C26: 48口10/100/1000M自适应端口，4个SFP光口，固化单交流电源和风扇 | D26: 台 | E26: 2 | H26: =F26+G26 -> 0 | I26: =E26*H26 -> 0
A27: 4 | B27: 24口千兆POE接入层交换机 | C27: 固化24个10/100/1000M自适应电口，4个1G SFP光口，1-24口支持PoE+/PoE，1-4号口支持HPoE（60W），整机PoE最大输出370W。 | D27: 台 | E27: 18 | H27: =F27+G27 -> 0 | I27: =E27*H27 -> 0
A28: 5 | B28: 千兆多模光模块 | C28: 1000BASE-SX mini GBIC转换模块（850nm），500m | D28: 个 | E28: 8 | H28: =F28+G28 -> 0 | I28: =E28*H28 -> 0
A29: 6 | B29: 千兆单模光模块 | C29: 1000BASE-LX mini GBIC转换模块（1310nm），10km | D29: 个 | E29: 67 | H29: =F29+G29 -> 0 | I29: =E29*H29 -> 0
A30: 五 | B30: 无线设备 | H30: =F30+G30 -> 0 | I30: =E30*H30 -> 0
A31: 1 | B31: 无线控制器 | C31: 下一代无线控制器，自带8个千兆电口，2个SFP复用口；默认支持32个AP，可通过扩展License最大控制224个AP；支持墙面式AP特性，墙面式AP最大可控数量翻倍，标配一个电源，不可扩展 | D31: 台 | E31: 1 | H31: =F31+G31 -> 0 | I31: =E31*H31 -> 0
A32: 2 | B32: 客房AP | C32: 室内灵动天线型无线接入点，内置X-sense灵动天线，双路双频，整机四条空间流，整机最大接入速率1.267Gbps；扩展模式下整机四路射频，八条空间流，整机最大接入速率2.4Gbps。可支持802.11a/b/g/n和802.11ac，支持802.11ac Wave2，支持MU-MIMO，胖/瘦模式切换、PoE和本地供电（PoE和本地电源适配器需单独选购）。支持通过POE给AP卫星MAP552(SR)供电，为主AP提供扩容、补盲、定位、探针等扩展功能，搭载MAP552(SR)后，RG-AP720-I需POE+供电。AP720-I+MAP552(SR)的组合包支持最大无线理论连接速率≥2.4Gbps（1267Mbps+300Mbps+867Mbps）。 | D32: 台 | E32: 97 | H32: =F32+G32 -> 0 | I32: =E32*H32 -> 0
A33: 3 | B33: 公区AP | C33: 高密度802.11ac Wave2室内无线接入点，三路双频，2*2MIMO，2.4G最大400Mbps，5G最大867Mbps，整机最大支持6条空间流，整机最高接入速率2.6Gbps，支持内置蓝牙，支持对外扩展物联网模块，支持胖/瘦模式切换、双千兆电口、支持本地供电和PoE+供电（PoE+和本地电源适配器需单独选购） | D33: 台 | E33: 52 | H33: =F33+G33 -> 0 | I33: =E33*H33 -> 0
A34: 4 | B34: 无线接入授权 | C34: WS系列无线控制器产品专用升级许可证License，每套可支持增加128个普通AP或256个墙面式AP的控制权 | D34: 套 | E34: 1 | H34: =F34+G34 -> 0 | I34: =E34*H34 -> 0
A35: 六 | B35: 网络管理 | H35: =F35+G35 -> 0 | I35: =E35*H35 -> 0
A36: 1 | B36: IMC标准版带50个节点 | C36: iMC-智能管理平台标准版 | D36: 套 | E36: 1 | H36: =F36+G36 -> 0 | I36: =E36*H36 -> 0
A37: 2 | B37: 企业版/标准版50扩容license | C37: iMC-智能管理平台标准版-50 License | D37: 套 | E37: 1 | H37: =F37+G37 -> 0 | I37: =E37*H37 -> 0
A38: B | B38: 管理网 | I38: =SUM(I39:I55) -> 0
A39: 一 | B39: 出口设备
A40: 1 | B40: 防火墙 | C40: 全新下一代千兆防火墙，1U高度，可选外置电源，提供1个千兆管理口，1个console接口；固化42个千兆电口；2个SFP千兆光口；内置64G硬盘；1个USB口；可选配病毒库、攻击库、应用识别库、垃圾邮件库、网页分类库特征库升级服务（可选配光模块：MINI-GBIC-LX-SM1310 V7.0、GE-ESFP-LX SM 1310 V6.1、GE-ESFP-SX MM850 V7.0、MINI-GBIC-SX MM850 V6.1、MINI-GBIC-SX MM850 V7.0、MINI-GBIC-SX | D40: 台 | E40: 1 | H40: =F40+G40 -> 0 | I40: =E40*H40 -> 0
...

Sheet 程控
A1: 程控交换机系统
A2: 工程：苏地2012-G-81号地块酒店区域智能化工程
A3: 序号 | B3: 项目名称描述 | C3: 技术参数 | D3: 单位 | E3: 工程量A | F3: 单价（元） | H3: 总价（元） | J3: 备注
F4: 主材B | G4: 安装费C | H4: 综合单价D=B+C | I4: 合价E=A*D
A5: 一 | B5: 软件、系统配置 （系统组件及许可） | I5: =SUM(I6:I15) -> 0
A6: 1 | B6: IS2000主机 | C6: 网口个数：WAN*2 可接入终端类型：AG、IAD 、网关、IP话机、视频话机、软终端等 单套最大代理注册用户：30000 呼叫并发数：2000 IVR并发数：500 彩铃：1000 最大Centrex群数：256 最大电话会议成员数：64 电源：AC：160V~240V / 50Hz~60Hz 网管协议：SNMP/TR069 物理尺寸：标准19英寸机柜、1U高度 | D6: 套 | E6: 2 | H6: =F6+G6 -> 0 | I6: =E6*H6 -> 0
A7: 2 | B7: 2E1板卡 | C7: 提供2个数字中继 | D7: 个 | E7: 2 | H7: =F7+G7 -> 0 | I7: =E7*H7 -> 0
A8: 3 | B8: 电话会议组件 | C8: 支持64方的电话会议，（可以分四组） | D8: 套 | E8: 1 | H8: =F8+G8 -> 0 | I8: =E8*H8 -> 0
A9: 4 | B9: 系统主备许可 | C9: 对注册到服务器的IP话机或网关等sip用户开通相应权限 | D9: 个 | E9: 1 | H9: =F9+G9 -> 0 | I9: =E9*H9 -> 0
A10: 5 | B10: 彩铃用户组件 | C10: 系统具有彩铃功能，内置高音质音乐源，系统内置长达4分钟的高音质音乐源，用户可自行定义音乐、广告语、广告歌作为等待音和回铃音。 | D10: 套 | E10: 1 | H10: =F10+G10 -> 0 | I10: =E10*H10 -> 0
A11: 6 | B11: 酒管软件中间件 | C11: 设备需要内置酒店中间件，与国内、外知名PMS酒馆系统无缝对接。无须第三方设备，第三方兼容对接不便 | D11: 个 | E11: 1 | H11: =F11+G11 -> 0 | I11: =E11*H11 -> 0
A12: 7 | B12: 录音用户 | C12: 可对模拟用户或SIP用户的通话进行录音，直接生成语音文件； | D12: 个 | E12: 30 | H12: =F12+G12 -> 0 | I12: =E12*H12 -> 0
A13: 8 | B13: 语音信箱用户 | C13: 住客房间分机忙、无人接听时，自动将来话引导至语音邮箱。住客外出也可预先录制一段外出留言，当有电话来时，自动播放外出留言给来话者。分机忙、无人接听、外出时都支持来电者给住客留言，并在留言成功后，点亮留言灯，告知住客有新留言。 语音信箱服务包括： 听取留言、 录个人问候语、修改个人信箱密码、设置留言通知号、录转接问候语等功能。 | D13: 个 | E13: 30 | H13: =F13+G13 -> 0 | I13: =E13*H13 -> 0
A14: 9 | B14: PC话务台 | C14: 登录网络电话，鼠标点击客户邮箱，直接给客户发邮件。只需把PC话务台安装在可连接到公司局域网的任何一台PC电脑，并运行成功登录某一分机电话即可使用，此时PC话务台软件和分机电话合二为一。PC话务台具有基本客户管理功能、名片夹、电话状态监控、通话记录、鼠标拨打电话、召开多方电话会议、支持头戴耳机电话、软摘机、软挂机、转接电话、修改分机电话权限、设置叫醒服务等功能。 | D14: 套 | E14: 1 | H14: =F14+G14 -> 0 | I14: =E14*H14 -> 0
A15: 10 | B15: CTI接口 | C15: 具有CTI接口。酒店可以基于系统平台开发一套客房呼叫中心，有咨询房价、预定房间、客房消费、订餐、账单统计等服务 | D15: 套 | E15: 1 | H15: =F15+G15 -> 0 | I15: =E15*H15 -> 0
A16: 二 | B16: 语音网关 | I16: =SUM(I17:I22) -> 0
A17: 1 | B17: GU128语音网关 | C17: 每台提供128个模拟分机端口 | D17: 台 | E17: 1 | H17: =F17+G17 -> 0 | I17: =E17*H17 -> 0
A18: 2 | B18: 32对连接电缆线 | C18: 每台GU128需配置4条电缆线 | D18: 台 | E18: 4 | H18: =F18+G18 -> 0 | I18: =E18*H18 -> 0
A19: 3 | B19: GM200主机 | C19: 主机提供6个通用槽位 | D19: 台 | E19: 1 | H19: =F19+G19 -> 0 | I19: =E19*H19 -> 0
A20: 4 | B20: FXD08M数字用户板 | C20: 提供8路数字分机端口 | D20: 块 | E20: 1 | H20: =F20+G20 -> 0 | I20: =E20*H20 -> 0
A21: 5 | B21: 25键多功能数字话机 | C21: 提供20个直选键数字话机 | D21: 台 | E21: 2 | H21: =F21+G21 -> 0 | I21: =E21*H21 -> 0
A22: 6 | B22: SIP话机 | C22: 132*58图形字符点阵带背光液晶屏；窄带编码：G.711(A/μ)、G.729A/B/AB、G.726、 iLBC、 宽带编码：G.722、L16 支持VAD、CNG、AEC、PLC、AJB、AGC等音频处理 ；来电显示、重拔、静音、免打扰、 三方会议、快速拔号、语音信箱 | D22: 台 | E22: 650 | H22: =F22+G22 -> 0 | I22: =E22*H22 -> 0
A23: 三 | B23: 配件 | I23: =SUM(I24:I26) -> 0
A24: 1 | B24: 本地维护电脑 | C24: 第八代处理 Intel Core I5-8500 3.0Ghz（6C,9M）/4G DDR4 2400/1TB 7200RPM 3.5"硬盘/集成千兆网卡/1G 独立显卡/DVD光驱/USB接口：前6后4/USB键盘鼠标/180W电源/WIN10 PRO 64位系统/联想19.5"WLED显示器/3年全国保修 | D24: 台 | E24: 1 | H24: =F24+G24 -> 0 | I24: =E24*H24 -> 0
A25: 2 | B25: 打印机 | C25: 彩色办公无线打印机 自动双面打印 无线直连 黑白(最佳)：最高1200x1200dpi的最佳分辨率(使用普通纸张，输入分辨率为600 x 600 dpi)； 彩色(最佳)：最高2400x1200dpi 的最佳分辨率(使用惠普高级相纸，输入分辨率为600 x 600 dpi),黑白：最快34页/分钟(草稿模式，A4)；最快22页/分钟(ISO模式，堪比激光打印)； 双面打印 (A4)：最快12页/分钟；彩色：最快34页/分钟(草稿模式，A4)；最快18页/分钟(ISO模式，堪比激光打印)； 双面打印 (A4)：最快10 页/分钟,P 955黑色原装耗材、HP 955青色原装耗材、HP 955品红色原装耗材、HP 955黄色原装耗材；HP 955XL高容量黑色、青色、品红色、黄色原装耗材 | D25: 台 | E25: 1 | H25: =F25+G25 -> 0 | I25: =E25*H25 -> 0
A26: 3 | B26: 连接配套配件及跳线 | C26: 配线架、连接电缆及同轴电缆转换器 | D26: 套 | E26: 1 | H26: =F26+G26 -> 0 | I26: =E26*H26 -> 0
A27: 四 | B27: 本系统总价 | C27: （一）+（二）+（三） | I27: =I5+I16+I23 -> 0

Sheet 视频监控
A1: 视频监控系统
A2: 工程：苏地2012-G-81号地块酒店区域智能化工程
A3: 序号 | B3: 项目名称描述 | C3: 技术参数 | D3: 单位 | E3: 工程量A | F3: 单价（元） | H3: 总价（元） | J3: 备注
F4: 主材B | G4: 安装费C | H4: 综合单价D=B+C | I4: 合价E=A*D
A5: 序号 | B5: 设备名称 | C5: 技术参数 | D5: 单位 | E5: 数量 | F5: 单价 | H5: 合价
A6: 一 | B6: 前端设备 | I6: =SUM(I7:I20) -> 0
A7: 1 | B7: 1080P室内枪机 | C7: 1. 采用高性能200万像素1/2.7英寸CMOS图像传感器 2. 镜头焦距2.7mm~13.5mm 3. 最低照度彩色：0.001 lx，黑白：0.0001 lx 4. 支持H.265编码，支持超低码流传输 5. ▲宽动态不小于106dB，且宽动态综合评价得分应不小于132（提供公安部检验报告证明） 6. 红外补光距离不小于150米 7. ▲支持帧率动态控制功能，当触发报警时，视频录像帧率应自动调整至设定值（提供公安部检验报告证明） 8. 支持走廊模式，宽动态，3D降噪，强光抑制，背光补偿，数字水印，适用不同监控环境 9. 支持绊线入侵，区域入侵等智能行为分析功能 10. 支持热度图导出功能，摄像机可根据客流信息生成热度图，并支持热度图导出 11. ▲支持最多同时开启28个视频窗口进行画面浏览（提供公安部检验报告证明） 12. 支持报警3进2出，音频1进1出，128G Micro SD卡 13. 支持DC12V/POE供电方式，方便工程安装 14. 支持电源输出功能，电源输出端可提供DC12V电源输出 15. 支持IP67防护等级 | D7: 台 | E7: 45 | H7: =F7+G7 -> 0 | I7: =E7*H7 -> 0
A8: 2 | B8: 1080P室外超星光一体机（不带红外） | C8: 1. 采用超星光超低照度200万像素1/1.8英寸CMOS图像传感器 2. 最低照度彩色：0.0003 lx，黑白：0.0001 lx。 3. 支持H.265编码，实现超低码流传输 4. 支持走廊模式，宽动态，3D降噪，强光抑制，背光补偿，数字水印，适用不同监控环境 5. ▲支持帧率动态控制功能，当触发报警时，视频录像帧率应自动调整至设定值。（提供公安部检验报告证明） 6. 支持智能编码功能，摄像机开启智能编码功能后，码流节约1/2。 7. 客流量统计准确率不低于96% 8. 支持人脸侦测功能，可同时检测20个人脸 9. 支持信息标记功能，可通过画笔在IE浏览器下进行标记 10. ▲支持焦距自动归为功能，当焦距位置发生变化时，可自动调节焦距到预设位置。（提供公安部检验报告证明） 11. ▲具备区域入侵、越界入侵、物体遗留/移除、徘徊检测、非法停车、快速移动、人员聚集、进入/离开区域、逆行、平躺起身等智能行为分析功能。（提供公安部检验报告证明） 12. 支持存储卡锁定功能，锁定后的存储卡不能在电脑，手机或其他设备上读取 13. 支持报警2进1出，音频1进1出，485，BNC，128G Micro SD卡，内置MIC 14. ▲支持电源备份功能，设备可同时采用DC12V或AC24V与POE供电，当一路电源停止后，设备仍能正常工作。（提供公安部检验报告证明） | D8: 台 | E8: 91 | H8: =F8+G8 -> 0 | I8: =E8*H8 -> 0
A9: 3 | B9: 高清镜头 | C9: 像面尺寸1/1.7英寸；镜头焦距3.7-16mm；F1.5；1200万；CS接口 | D9: 台 | E9: 91 | H9: =F9+G9 -> 0 | I9: =E9*H9 -> 0
A10: 4 | B10: 室外枪机支架护罩 | C10: 室外护罩，含支架 | D10: 台 | E10: 91 | H10: =F10+G10 -> 0 | I10: =E10*H10 -> 0
A11: 5 | B11: 补光灯 | C11: 1. 铝合金材质 2. 支持不少于20颗CREE光源，超远补光 3. 支持光敏控制方式，启动阈值30Lux 4. 照射距离不低于30米 5. 色温5500-6500K 6. 适应温度-30~70℃； 湿度＜90%的环境应用 7. 支持IP66防护等级 8. 额定功率不大于16W 9. 支持DC12V供电 10. 支持壁装、吊装、面装安装方式 | D11: 个 | E11: 91 | H11: =F11+G11 -> 0 | I11: =E11*H11 -> 0
A12: 6 | B12: 补光灯电源 | C12: DC12V/2A | D12: 个 | E12: 91 | H12: =F12+G12 -> 0 | I12: =E12*H12 -> 0
A13: 7 | B13: 1080P半球 | C13: 1. 采用高性能200万像素1/2.7英寸CMOS图像传感器 2. 镜头焦距2.7mm~13.5mm 3. 镜头支持自动变焦、自动调节光圈及一键聚焦功能 4. 最低照度彩色：0.001 lx，黑白：0.0001 lx 5. 支持H.265编码，实现超低码流传输 6. ▲宽动态不小于106dB，且宽动态综合评价得分应不小于132（提供公安部检验报告证明） 7. 内置红外补光灯，最大红外监控距离60米 8. ▲支持帧率动态控制功能，当触发报警时，视频录像帧率应自动调整至设定值（提供公安部检验报告证明） 9. 支持走廊模式，宽动态，3D降噪，强光抑制，背光补偿，数字水印，适用不同监控环境 10. 支持绊线入侵，区域入侵等智能行为分析功能 11. 支持热度图导出功能，摄像机可根据客流信息生成热度图，并支持热度图导出 12. ▲支持最多同时开启28个视频窗口进行画面浏览（提供公安部检验报告证明） 13. 支持128G Micro SD卡 14. 支持DC12V/POE供电方式 15. 支持欠压/过压检测功能，当电压低于10V或高于15V时，可在客户端显示图标或者播放报警提示音 16. 支持IP67防护等级 | D13: 台 | E13: 92 | H13: =F13+G13 -> 0 | I13: =E13*H13 -> 0
A14: 8 | B14: 1080P室内球机 | C14: 1. 采用200万像素1/1.8英寸CMOS传感器 2. 镜头焦距5.0mm~115mm 3. 支持23倍光学变倍，16倍数字变倍 4. ▲最低照度彩色：0.0002lux黑白：0.0001lux（提供公安部检验报告证明） 5. 支持H.265编码，支持超低码流传输 6. 具有三种滤光片，在白天、夜晚及有雾情况下可自动切换不同的滤光片进行成像。滤光片透过率不小于96% 7. ▲在夜间，天气晴朗无雾，视线无遮挡的条件下，通过自带补光灯补光及变焦，可识别距样机120m处的人体轮廊，开启红外光补光，可看清距样机250m处的人体轮廊（提供公安部检验报告证明） 8. ▲当设置报警目标为人、非机动车、机动车中一个或多个目标类型时，则支持该类型目标触发规则（绊线入侵、区域入侵）之后报警，并联动上报对应类型报警信息给后端（提供公安部检验报告证明） 9. 支持穿越围栏、绊线入侵、区域入侵、物品遗留、快速移动、停车检测、人员聚集、物品搬移、徘徊检测多种行为检测；支持目标过滤 10. 水平方向360°连续旋转，垂直方向-20°～90°自动翻转180°后连续监视,无监视盲区 11. 支持300个预置位，8条巡航路径，5条巡迹路径 12. 支持1路音频输入和1路音频输出 13. 内置2路报警输入和1路报警输出，支持报警联动功能 14. 支持IP66防护等级，6000V防雷、防浪涌和防突波保护 15. 支持AC24V±25%宽电压输入 | D14: 台 | E14: 2 | H14: =F14+G14 -> 0 | I14: =E14*H14 -> 0
A15: 9 | B15: 室外球机 | C15: 1. 采用200万像素1/1.8英寸CMOS传感器 2. 镜头焦距5.0mm~115mm 3. 支持23倍光学变倍，16倍数字变倍 4. ▲最低照度彩色：0.0002lux黑白：0.0001lux（提供公安部检验报告证明） 5. 支持H.265编码，支持超低码流传输 6. 具有三种滤光片，在白天、夜晚及有雾情况下可自动切换不同的滤光片进行成像。滤光片透过率不小于96% 7. ▲在夜间，天气晴朗无雾，视线无遮挡的条件下，通过自带补光灯补光及变焦，可识别距样机120m处的人体轮廊，开启红外光补光，可看清距样机250m处的人体轮廊（提供公安部检验报告证明） 8. ▲当设置报警目标为人、非机动车、机动车中一个或多个目标类型时，则支持该类型目标触发规则（绊线入侵、区域入侵）之后报警，并联动上报对应类型报警信息给后端（提供公安部检验报告证明） 9. 支持穿越围栏、绊线入侵、区域入侵、物品遗留、快速移动、停车检测、人员聚集、物品搬移、徘徊检测多种行为检测；支持目标过滤 10. 水平方向360°连续旋转，垂直方向-20°～90°自动翻转180°后连续监视,无监视盲区 11. 支持300个预置位，8条巡航路径，5条巡迹路径 12. 支持1路音频输入和1路音频输出 13. 内置2路报警输入和1路报警输出，支持报警联动功能 14. 支持IP66防护等级，6000V防雷、防浪涌和防突波保护 15. 支持AC24V±25%宽电压输入 | D15: 台 | E15: 3 | H15: =F15+G15 -> 0 | I15: =E15*H15 -> 0
A16: 10 | B16: 室外球机支架 | C16: 白色/铝合金 | D16: 个 | E16: 3 | H16: =F16+G16 -> 0 | I16: =E16*H16 -> 0
A17: 11 | B17: 电梯半球 | C17: 1. 采用星光级低照度200万像素1/2.8英寸CMOS图像传感器 2. 最低照度彩色：0.001 lx，黑白：0.001 lx 3. 支持H.265、H.264、MJPEG视频编码格式，其中H.265和H.264都支持Baseline/Main/High Profile。 4. ▲支持帧率动态控制功能，当触发报警时，视频录像帧率应自动调整至设定值。（提供公安部检验报告证明） 5. 内置红外补光灯，最大红外监控距离20米 6. 支持最多同时开启20个视频窗口进行画面浏览 7. 支持绊线入侵，区域入侵，物品遗留，物品搬移，人脸检测等智能行为分析功能 8. 支持走廊模式，宽动态，3D降噪，强光抑制，背光补偿，数字水印，适用不同监控环境 9. ▲支持10行字符叠加，字体对齐方式和叠加位置可设，具有图片叠加到视频画面功能。（提供公安部检验报告证明） 10. 支持128G Micro SD卡，内置MIC 11. 支持DC12V/POE供电方式，方便工程安装 12. 支持IP67，IK10防护等级 | D17: 台 | E17: 6 | H17: =F17+G17 -> 0 | I17: =E17*H17 -> 0
A18: 12 | B18: 无线网桥 | C18: 1. 业务端口3个 2. 1*POE RJ45(IN：220V，OUT：48V/0.25A)、1*LAN RJ45 DC 12V电源接口 3. 无线标准IEEE802.11 b/g/n 4. 工作频率2412~2472 MHz（支持频率扩展，扩展范围：2312MHz-2732MHz） 5. 无线方向角 水平65°，仰角60° 6. 传输距离400m 7. 加密方式WPA-PSK；WPA2-PSK 8. 工作温度-30℃～+60℃ | D18: 对 | E18: 6 | H18: =F18+G18 -> 0 | I18: =E18*H18 -> 0
... A20: 14 | B20: 室外摄像机电源模块 | C20: DC12V/2A | D20: 台 | E20: 91 | H20: =F20+G20 -> 0 | I20: =E20*H20 -> 0
A21: 二 | B21: 控制中心设备 | I21: =SUM(I22:I30) -> 0
A22: 1 | B22: 中心管理服务器 | C22: 1. 采用LINUX操作系统 2. 支持电源、风扇、磁盘等模块热插拔 3. 标配8G内存，最大可扩展至64G；具有128G的SSD 4. 多址模式下支持接入、存储、转发各800Mbps；转发和存储性能相互独立； 5. 绑定模式下支持接入、存储、转发各1600Mbps；转发和存储性能相互独立； 6. 支持管理5000路视频监控，200路卡口，具有1亿的卡口过车数据 7. 支持B/S、C/S等多个客户端同时访问平台，支持iphone、ipad、android等访问客户端 8. 支持发送RTSP、RTMP协议实时码流 9. ▲支持进行flv、avi、mp4格式的视频预览；支持HLS取视频流；（提供公安部检验报告证明） 10. 支持H.264、H.265、SVAC、MPEG4、MJPEG视频编码格式的IPC接入； 11. 支持16个磁盘，支持1TB、2TB、3TB、4TB、5TB、6TB、8TB、10TB 12. 支持SATA、SAS磁盘，支持SSD，支持磁盘混插，支持2.5/3.5英寸磁盘 13. 支持Raid功能，包括Raid0、Raid1、Raid5、Raid6、Raid10、Raid50、Raid60、JBOD，支持全局热备和本地热备 14. ▲支持存储配额设置，淡忘存储，将对指定天数的录像进行抽帧存储，支持小文件存储；（提供公安部检验报告证明） 15. 支持对前端录像的断网补录、定时补录功能。 16. 可根据网口量配置相应数量的不同网段IP地址，此外支持负载均衡、容错模式、链路聚合等模式 17. 客户端支持多屏应用，同时展现多个业务界面 18. ▲支持N+M备份，支持平台上下6级级联。（提供公安部检验报告证明） 19. ▲支持账号锁定机制，启用后可设置账户非法登录次数，以及账户锁定时长；（提供公安部检验报告证明） 20. 支持秒级存储及回放，可回放设备断网/断电前一秒录像； 21. 支持1/2、1/4、1/8、1/16、2、4、8、16、32、64、128倍速快慢放回放； 22. 支持超图、google在线地图、google离线地图、PGIS地图； 23. 支持NTP校时，支持对前端设备、分布式服务器、下级服务器、客户端校时； | D22: 台 | E22: 1 | H22: =F22+G22 -> 0 | I22: =E22*H22 -> 0
A23: 2 | B23: 流媒体服务器 | C23: 1. 操作系统 LINUX系统 2. 支持2700Mbps码流接入 3. 支持2700Mbps码流转出 4. 支持800Mbps的HLS接入、800Mbps的HLS转出 5. 支持1000个IP、5000路通道 6. 支持大华、海康、主动注册、GB28181、ONVIF等设备接入 7. 支持远程运维升级 8. 配置4个超高速智能调节静音风扇；内存16GB、最大可扩展至64GB；配置1块1T 3.5吋硬盘网口个数 4个千兆网口 | D23: 台 | E23: 1 | H23: =F23+G23 -> 0 | I23: =E23*H23 -> 0
A24: 3 | B24: 磁盘阵列式NVR | C24: 1. 采用嵌入式Linux系统，支持双系统备份和自动切换功能；支持4K分辨率码流接入并解码输出； 2. 具备4个千兆以太网接口、2个光口、1个RS232接口、1个RS485接口、1个VGA接口、10个HDMI接口、1个RCA音频输入接口、1个RCA输出接口、4个USB接口(后面板2个USB3.0，前面板2个USB2.0)、24个SATA接口、1个eSATA接口、16个报警输入接口、8个报警输出接口，1个电源输入接口。 3. ▲最大支持128路IPC接入，总码流为768Mbps；最大存储码流为768Mbps；最大转发码流为768Mbps；最大回放码流为128Mbps；(提供公安部检验报告证明) 4. 支持将IPC接入配置以CSV格式文件导入或导出本机，CSV格式文件允许用户编辑； 5. ▲可通过HDMI1和HDMI2接口将3840x2160分辨率的不同码流解码同时显示输出在两个4K的液晶屏上;支持本地36分割预览，显示32通道预览画面;支持用户自己创建预览显示的布局，可组成6个自定义布局的窗口,单个窗口视频源可选择;支持VGA、 HDMI1、HDMI2屏输出，可输出不同的视频画面；(提供公安部检验报告证明) 9. 可将多台样机配置为集群管理方式，当某台样机发生故障时，备用样机可替换故障样机继续录像,故障恢复后，备用样机可将存储的录像回传给故障机，可以同时指定多台为备用样机； 10. 本地和web端在预览和回放模式下，支持对接入4000x3000分辨率的鱼眼视频以拼接的方式进行后矫正功能； 11. 支持鱼眼摄像机和球机的配合联动，点击鱼眼图像中的一个点，球机镜头能自动对准该位置点； 12. 支持在两个主通道画面上分别叠加1个其他通道的小画面视频，包括编码并可在16画面预览模式下预览； 13. ▲将多路通道的多幅图像拼接成一幅图像；(提供公安部检验报告证明) 14. "在特定条件下，当接入的画面中发生绊线入侵、区域入侵、穿越围栏、移动侦测、人脸检测、物品遗留、物品搬移时，可给出报警提示，可对检测到的人脸图像进行预览，既可以支持Smart IPC，也可以支持第三方普通IPC； 15. 在特定条件下，当接入的画面中发生场景变化、快速移动时，可给出报警提示； 16. 在特定条件下，可对检测到的车牌、车标、车辆颜色信息进行预览，既可以支持Smart IPC，也可以支持第三方普通IPC； 17. 支持热度图，可统计指定时间段区域内的运动频繁度；统计结果支持日报表、周报表、月报表方式进行展示； 18. 支持客流统计，可统计指定时间段不同区域的客流量大小；统计结果支持日报表、周报表、月报表、年报表方式进行展示； 19. 在预览和回放界面均可同步指定POS机收银信息，显示商品名称、单价、数量、金额信息，可通过显示窗口下方查询条进行高级查询。 20. ▲支持卡口相机的图片直接存入本机，并能检索、查看；(提供公安部检验报告证明) | D24: 台 | E24: 3 | H24: =F24+G24 -> 0 | I24: =E24*H24 -> 0
A25: 4 | B25: 监控级4T硬盘 | C25: 4000G；7200RPM；128M；SATA | D25: 块 | E25: 60 | H25: =F25+G25 -> 0 | I25: =E25*H25 -> 0
A26: 5 | B26: 网络控制键盘 | C26: 1. ▲不小于10.2英寸显示触摸屏，分辨率不低于1280*800，不少于3个触控按钮(提供公安部检验报告证明) 2. 支持对H.264、H.264H、H.264B、H.265、MJPEG等编码格式的视频进行解码 3. 需具有WIFI连接功能 4. 支持同时预览不少于16路1080P图像 5. ▲不少于4个USB、4个HDMI(提供公安部检验报告证明) 6. 支持管理不少于30000台设备 7. 支持4路HDMI输出，支持1/4/9/16画面分割图像输出 8. ▲具有不少于2个RJ45、RS485、RS424、4个USB、4个HDMI接口、1个静音按键、2个音量调节按键、一个音频输入、一个音频输出、4路报警输入、4路报警输出(提供公安部检验报告证明) 9. 支持IP20防护等级 10. 支持DC 12V± 25%电压范围内正常工作 11. 通过高低温测试可在+55°~-10°正常运行 | D26: 台 | E26: 1 | H26: =F26+G26 -> 0 | I26: =E26*H26 -> 0
A27: 6 | B27: 4路高清解码器 | C27: 1. 采用1U的机箱，保证机柜空间的利用率 2. 嵌入式LINUX操作系统 3. 支持2路HDMI信号采集接口 4. 支持4路HDMI信号输出接口/2路BNC信号输出接口 5. 支持4路HDMI音频输出/2路BNC音频输出 6. 支持MPEG2/MPEG4/H.264/H.265/MJPEG视频解码，支持AAC、PCM、G.711音频解码； 7. ▲支持1路HDMI视（音）频输入，并且支持将输入的视（音）频通过视（音）频输出接口输出，HDMI输入输出图像延时≤90ms；(提供公安部检验报告证明) 8. 支持通过串口控制屏幕开关 9. 支持1/4/9/16/25/36画面分割切换 10. ▲H.264/H.265视频解码均支持4路4000X3000、4路3840X2160、16路1920X1080、36路1280X720、64路704X576网络视频解码；(提供公安部检验报告证明) 11. HDMI输出接口支持3840x2160,，1920x1080,1280x1024，1280x720，1024x768五种显示分辨率；HDMI输入接口支持,3840x2160分辨率 12. 支持Onvif、RTSP协议接入，支持国标GB28181接入 ，支持海康私有协议/大华私有协议接入； 13. ▲支持1X1，1X2，2X1，2X2拼接，每个输出端口支持1/4/9/16分割显示，支持分割线开启/关闭设置，支持底色设置；(提供公安部检验报告证明) 14. 支持远程录像文件的解码输出； 15. 支持1个10M/100M/1000M自适应以太网接口 | D27: 台 | E27: 4 | H27: =F27+G27 -> 0 | I27: =E27*H27 -> 0
A28: 7 | B28: 46寸液晶拼接单元 | C28: 1. 屏幕尺寸46寸，LED光源 2. 分辨率：1920×1080 3. 亮度：不低于500cd/m2 4. 双边拼缝≦5.3mm 5. 水平可视角度≧178°，垂直可视角度≧178° 6. 输入接口需支持：USB，HDMI，VGA，DVI,BNC，音频； 7. 输出接口需支持：DVI，RS232，音频； 8. 液晶显示单元漏光度低于 0.02cd/m²； 9. 液晶拼接单元具备3 组冗余风扇，一个风扇损坏不会影响整机运行 10. 拼接单元具有便捷的拼接及调整装置，利于装拆和售后维护， | D28: 台 | E28: 12 | H28: =F28+G28 -> 0 | I28: =E28*H28 -> 0
A29: 8 | B29: 拼接支架底座（含HDMI，机柜等） | C29: 定制 | D29: 套 | E29: 1 | H29: =F29+G29 -> 0 | I29: =E29*H29 -> 0
A30: 9 | B30: 监控工作站 | C30: 第八代处理 Intel Core I5-8500 3.0Ghz（6C,9M）/4G DDR4 2400/1TB 7200RPM 3.5"硬盘/集成千兆网卡/1G 独立显卡/DVD光驱/USB接口：前6后4/USB键盘鼠标/180W电源/WIN10 PRO 64位系统/联想19.5"WLED显示器/3年全国保修 | D30: 台 | E30: 1 | H30: =F30+G30 -> 0 | I30: =E30*H30 -> 0
A31: 三 | B31: 车行抓拍系统 | I31: =SUM(I32:I35) -> 0
A32: 1 | B32: 微卡口|智慧监控单元 | C32: 包含摄像机、高清镜头、室外防护罩、LED补光灯、风扇、相机内置防雷模块、电源适配器、安装万向节等 1.采用1/1.8英寸GS-CMOS； 2.传感器有效像素不低于800W； 3.镜头：10.5-42mm 4.支持H.264H、H.264M、H.264B、MJEPG编码方式； 5.支持电子陀螺仪姿态检测、GPS、TF卡等； 6.采用高性能VPU深度学习芯片，硬件处理性能提升12倍，加载深度学习智能算法，支持： 7.微卡口支持4车道； 8. 支持车辆抓拍并自动识别车牌号码 9. 支持IP66防护等级； | D32: 台 | E32: 2 | H32: =F32+G32 -> 0 | I32: =E32*H32 -> 0
A33: 2 | B33: 终端服务器 | C33: 1. 支持违章图片普通合成和新国标六合一合成功能，合成顺序自定义 2. 支持RTSP/ONVIF/GB28181/GB35114协议，兼容多种摄像机接入 3. 支持断网续传，当设备与平台断开，重连后设备将断开时间段的图片继续传给平台 4. 支持黑白名单文件导入导出；支持按照车牌模糊查询 5. 支持数据防篡改，录像、图片文件无法直接删除 6. 支持按时间、通道、违章类型、车牌、车速、车道查询 7. 标配1块1T硬盘，标配GPS功能 8. 支持4路高清图片，4路高清实时录像 9. 支持2个内置SATA接口硬盘 10. 支持2个RS232串口（1个用于调试串口），1个RS485接口,1个USB3.0接口 11. 支持2路报警输入，2路报警输出 12. 支持4个RJ4510M/100M自适应以太网口，2个RJ451000M接口 | D33: 台 | E33: 1 | H33: =F33+G33 -> 0 | I33: =E33*H33 -> 0
A34: 3 | B34: 室外立杆 | C34: 1.8M | D34: 个 | E34: 2 | H34: =F34+G34 -> 0 | I34: =E34*H34 -> 0
A35: 4 | B35: 二合一防雷器 | C35: 电源网络二合一防雷器；电源：DC12V/AC24V；网络1000M | D35: 台 | E35: 2 | H35: =F35+G35 -> 0 | I35: =E35*H35 -> 0
A36: 四 | B36: 辅材 | I36: =I37+I38 -> 0
A37: 1 | B37: 电源线RVV3*2.5 | C37: RVV线缆 | D37: 米 | E37: 960 | H37: =F37+G37 -> 0 | I37: =E37*H37 -> 0
A38: 2 | B38: 配管 | C38: JDG20（含开槽、支架、防火涂料等） | D38: 米 | E38: 2850 | H38: =F38+G38 -> 0 | I38: =E38*H38 -> 0
A39: 五 | B39: 本系统总价 | C39: （一）+（二）+（三）+（四） | I39: =I6+I21+I31+I36 -> 0

Sheet 报警
A1: 防盗报警系统
A2: 工程：苏地2012-G-81号地块酒店区域智能化工程
A3: 序号 | B3: 项目名称描述 | C3: 技术参数 | D3: 单位 | E3: 工程量A | F3: 单价（元） | H3: 总价（元） | J3: 备注
F4: 主材B | G4: 安装费C | H4: 综合单价D=B+C | I4: 合价E=A*D
A5: A | B5: 室内报警 | I5: =SUM(I6:I27) -> 0
A6: 一 | B6: 前端设备
A7: 1 | B7: 紧急按钮 | C7: UL认证 5A@24 VDC 塑料外壳 输出：常闭/常开 | D7: 个 | E7: 15 | H7: =F7+G7 -> 0 | I7: =E7*H7 -> 0
A8: 2 | B8: 声光报警器 | C8: 声光报警器;声压≥108分贝;电流≤200毫安 | D8: 个 | E8: 3 | H8: =F8+G8 -> 0 | I8: =E8*H8 -> 0
A9: 2 | B9: 双鉴移动探测器 | C9: 产品特性: 系统采用高电压、低能量设计思路，对人体不会构成生命危害； 自带2路报警输出(DC12V)、2路开关量信号输出同时具备常开和常闭，可实现与视频、报警、灯光等其它的安防系统联动，提高系统的安全防范等级； 自带有2路开关量输入报警,1路常开,1路常闭. 可设置关闭此功能； 脉冲电子围栏具有拆开报警,断线报警, 短路报警, 停电时电池供电报警, 电池低压报警, 开关量输入报警等； 可设置成自动模式,正常工作时输出低压,报警时输出高压； 支持单个系统支持接入6个键盘（（键盘可挂总线任意位置）； 支持管理中心软件对系统远程布撤防； 支持本地布撤防； 支持LED数码管和LCD液晶显示屏实时的动态显示前端输出脉冲电压； 支持防拆设计：可实现光敏防拆和物理机械防拆开关两种方式； 支持12V4.5Ah内置铅酸蓄电池，能在停电的情况下继续工作7~8小时，来电后自动转换成市电供电。有完善的电池接口保护,不怕接口短路和电池反接； 支持高低压输出电压调节: 高压设置范围:3.0kv-5.5kv. 低压设置范围:0.8kv-1.2kv； | D9: 个 | E9: 38 | H9: =F9+G9 -> 0 | I9: =E9*H9 -> 0
A10: 3 | B10: 报警键盘 | C10: 产品特性: 可控制255台防区电子围栏防区，具有强大的系统管理功能； 支持一键读取已连接防区； 两种密码权限，4位密码可任意修改； 支持3个定时布撤防，键盘管理更加智能化； 采用4.5寸液晶屏显示； 自带1路开关量信号输出（常闭、常开可选），更好的联动报警设备； 支持2个遥控器学码； 可储存64条报警、操作记录信息； 支持打印机接入功能，可实时打印报警记录； | D10: 个 | E10: 4 | H10: =F10+G10 -> 0 | I10: =E10*H10 -> 0
A11: 4 | B11: 双防区模块 | C11: 防区扩展模块，可接入2个常闭NC防区，使用线末电阻监控防止破坏 | D11: 个 | E11: 3 | H11: =F11+G11 -> 0 | I11: =E11*H11 -> 0
A12: 5 | B12: 八防区模块 | C12: 防区扩展模块，可接入8个常闭NC防区，使用线末电阻监控防止破坏 | D12: 个 | E12: 7 | H12: =F12+G12 -> 0 | I12: =E12*H12 -> 0
A13: 6 | B13: 继电器输出模块 | D13: 个 | E13: 10 | H13: =F13+G13 -> 0 | I13: =E13*H13 -> 0
A14: 二 | B14: 中心管理设备 | H14: =F14+G14 -> 0 | I14: =E14*H14 -> 0
A15: 1 | B15: 管理工作站 | C15: 第八代处理 Intel Core I5-8500 3.0Ghz（6C,9M）/4G DDR4 2400/1TB 7200RPM 3.5"硬盘/集成千兆网卡/1G 独立显卡/DVD光驱/USB接口：前6后4/USB键盘鼠标/180W电源/WIN10 PRO 64位系统/联想19.5"WLED显示器/3年全国保修 | D15: 台 | E15: 1 | H15: =F15+G15 -> 0 | I15: =E15*H15 -> 0
A16: 2 | B16: 报警管理软件 | C16: ● 总线、IP联网型接警中心软件,带加密狗。 ● 报警语音、电子地图、防区面板、打印、短信、开关联动、平台转发， 历史记录查询、EXCEL导出。 ● 温湿度显示、高低温、湿度报警。 ● 手机APP报警显示、撤布防操作。 ● 设备手动、定时布撤防，防区、单设备、多设备控制。 ● 刷卡、考勤支持。在线注册、注销、编辑卡。 ● 开关面板控制、每天三时段定时开关、开关组多开关同时控制。 ● 设备定时测试，允许/禁止防区实时状态上报并通过防区面板实时显示 | D16: 套 | E16: 1 | H16: =F16+G16 -> 0 | I16: =E16*H16 -> 0
A17: 3 | B17: 总线报警主机 | C17: 最多可接2050个防区；双通讯总线输出，通讯距离可达2400米；自身带有2个有线防区,通过485通讯接口可以外接最多256个总线设备，每个扩展输入设备最多可接8个防区；最多有256个分区，支持报警联动输出；可由电脑直接向其写入配置信息；可电话联网Contact ID协议（使用RVVP2*1.0屏蔽双绞线） | D17: 台 | E17: 1 | H17: =F17+G17 -> 0 | I17: =E17*H17 -> 0
A18: 4 | B18: 液晶报警键盘 | C18: 中文LCD编程键盘（与7480V2.0/7480EV2.0配套使用） | D18: 个 | E18: 1 | H18: =F18+G18 -> 0 | I18: =E18*H18 -> 0
A19: 5 | B19: 总线延伸模块 | C19: 连接到总线回路，用辅助电源对模块供电 外接电源：16.5VAC, 25VA变电器 外置 12V铅酸蓄电池供电 尺寸：163×108×32 mm | D19: 个 | E19: 1 | H19: =F19+G19 -> 0 | I19: =E19*H19 -> 0
A20: 6 | B20: 网络通信转换器 | C20: 可以通过PC软件进行远程布撤防、远程编程、远程旁路和恢复操作 实时通讯，主机脱网后中心可立即发现 无通讯费用，系统运营成本低 及时准确上报Honeywell VISTA系列报警主机的重要报告 支持从局域网内到跨城域的各级远程通讯 主机掉电异常状况时，保存至少50条最新报告，并可根据需要回放 需实现配置的在线查询 需实现配置的在线更改 硬件触发恢复默认出厂值设置 LED指示灯显示自身工作状态 小型化设计，安装接线简便 符合相关行业标准、国家标准、国际标准 | D20: 块 | E20: 1 | H20: =F20+G20 -> 0 | I20: =E20*H20 -> 0
A21: 7 | B21: 开关电源 | C21: 12V7A | D21: 个 | E21: 91 | H21: =F21+G21 -> 0 | I21: =E21*H21 -> 0
A22: 三 | B22: 辅材 | H22: =F22+G22 -> 0 | I22: =E22*H22 -> 0
A23: 1 | B23: 报警总线 | C23: RVVPS 线缆 | D23: 米 | E23: 665 | H23: =F23+G23 -> 0 | I23: =E23*H23 -> 0
A24: 2 | B24: 信号线 | C24: RVV 线缆 | D24: 米 | E24: 665 | H24: =F24+G24 -> 0 | I24: =E24*H24 -> 0
A25: 3 | B25: 信号线 | C25: RVV 线缆 | D25: 米 | E25: 1415 | H25: =F25+G25 -> 0 | I25: =E25*H25 -> 0
A26: 4 | B26: 电源线 | C26: RVV 线缆 | D26: 米 | E26: 665 | H26: =F26+G26 -> 0 | I26: =E26*H26 -> 0
A27: 5 | B27: 电线管（含开槽、支架、防火涂料等） | C27: 镀锌线管 | D27: 米 | E27: 780 | H27: =F27+G27 -> 0 | I27: =E27*H27 -> 0
A28: B | B28: 周界报警 | I28: =SUM(I29:I44) -> 0
A29: 一 | B29: 中心设备 | I29: =E29*H29 -> 0
A30: 1 | B30: 报警控制服务器（工控机版） | C30: 第八代处理 Intel Core I5-8500 3.0Ghz（6C,9M）/4G DDR4 2400/1TB 7200RPM 3.5"硬盘/集成千兆网卡/1G 独立显卡/DVD光驱/USB接口：前6后4/USB键盘鼠标/180W电源/WIN10 PRO 64位系统/联想19.5"WLED显示器/3年全国保修 | D30: 台 | E30: 1 | H30: =F30+G30 -> 0 | I30: =E30*H30 -> 0
A31: 2 | B31: 光纤主机（8防区） | C31: 电压 AC220V 50Hz ±10% 功耗 ≤15W 振动监测频率响应 1~100kHz 系统灵敏度 每个防区可单独设置 防区数量 8防区 报警输出接口 开关量 光纤接口类型 FC/APC 通信接口 Usb 连接报警控制服务器 工作温度 -10~50℃ 工作湿度 5~90% 尺寸（W*H*D） 482mm×140mm×453mm | D31: 台 | E31: 1 | H31: =F31+G31 -> 0 | I31: =E31*H31 -> 0
A32: 3 | B32: 显示器 | C32: 屏幕尺寸 19英寸 最佳分辨率 1280x1024 屏幕比例 5:4（普屏） 高清标准 1080p 面板类型 IPS 背光类型 LED背光 动态对比度 400万:1 静态对比度 1000:1 响应时间 8ms 点距 0.293mm 亮度 250cd/㎡ 可视面积 374.8×299.8mm 可视角度 178/178° 显示颜色 16.7M | D32: 台 | E32: 1 | H32: =F32+G32 -> 0 | I32: =E32*H32 -> 0
A33: 4 | B33: 联动模块 | C33: RJ45网络连接 | D33: 台 | E33: 1 | H33: =F33+G33 -> 0 | I33: =E33*H33 -> 0
A34: 二 | B34: 前端设备 | H34: =F34+G34 -> 0 | I34: =E34*H34 -> 0
A35: 1 | B35: 防区中继盒 | C35: 工作原理 耦合器，分光、光干涉 防区供电 无源 外壳材质 ABS 接口 3芯尾纤和通信光缆、传感光缆对熔，裸纤使用续接包保护 工作温度 -40~70℃ 安装方式 挂墙、埋地 | D35: 个 | E35: 3 | H35: =F35+G35 -> 0 | I35: =E35*H35 -> 0
A36: 2 | B36: 防区终端盒 | C36: 工作原理 法拉第旋镜，光信号反射 防区供电 无源 外壳材质 ABS 接口 1芯尾纤和传感光缆对熔 工作温度 -40~70℃ 安装方式 挂墙、埋地 | D36: 个 | E36: 3 | H36: =F36+G36 -> 0 | I36: =E36*H36 -> 0
A37: 3 | B37: 振动感应光缆 | C37: 光缆型号 GYXTW型（中心管式铠装室外光缆） 外护套材质 聚乙烯 光纤类型 G.652 光纤芯数 2芯 允许拉伸强度 长期600N，短期1500N 允许抗侧压强度 长期300N/10cm，短期 1000N/10cm 布设场合 不限 工作温度 -40~70℃ 衰减系数 ＜0.21dB/Km 使用寿命 ＞25年 光缆弯曲半径 静态100mm/动态200mm 铺设方式 U型、波浪型、一字型 光缆直径 8mm 整盘出售不散买（100米每盘） | D37: 米 | E37: 1000 | H37: =F37+G37 -> 0 | I37: =E37*H37 -> 0
A38: 4 | B38: 通信光缆 | C38: 16芯单模轻铠 光缆型号 GYXTW型（中心管式铠装室外光缆） 外护套材质 聚乙烯 光纤类型 G.652 光纤芯数 防区数量*2 允许拉伸强度 长期600N，短期1500N 允许抗侧压强度 长期300N/10cm，短期 1000N/10cm 布设场合 不限 工作温度 -40~70℃ 衰减系数 ＜0.21dB/Km 使用寿命 ＞25年 光缆弯曲半径 静态100mm/动态200mm 铺设方式 U型、波浪型、一字型 光缆直径 8mm | D38: 米 | E38: 500 | H38: =F38+G38 -> 0 | I38: =E38*H38 -> 0
A39: 5 | B39: 红外对射 | C39: 四通道变频技术，三光束、探测距离100米 | D39: 对 | E39: 1 | H39: =F39+G39 -> 0 | I39: =E39*H39 -> 0
A40: 6 | B40: 单防区地址码模块 | C40: 单防区扩展模块，可接入1个常闭NC防区，使用线末电阻监控防止破坏 | D40: 个 | E40: 1 | H40: =F40+G40 -> 0 | I40: =E40*H40 -> 0
...

Sheet 门禁
A1: 门禁一卡通系统
A2: 工程：苏地2012-G-81号地块酒店区域智能化工程
A3: 序号 | B3: 项目名称描述 | C3: 技术参数 | D3: 单位 | E3: 工程量A | F3: 单价（元） | H3: 总价（元） | J3: 备注
F4: 主材B | G4: 安装费C | H4: 综合单价D=B+C | I4: 合价E=A*D
A5: 一 | B5: 中央管理设备 | I5: =SUM(I6:I9) -> 0
A6: 1 | B6: 计算机 | C6: 第八代处理 Intel Core I5-8500 3.0Ghz（6C,9M）/4G DDR4 2400/1TB 7200RPM 3.5"硬盘/集成千兆网卡/1G 独立显卡/DVD光驱/USB接口：前6后4/USB键盘鼠标/180W电源/WIN10 PRO 64位系统/联想19.5"WLED显示器/3年全国保修 | D6: 台 | E6: 1 | H6: =F6+G6 -> 0 | I6: =E6*H6 -> 0
A7: 2 | B7: 一卡通管理平台 | C7: 一卡通管理平台基础版 2000人以下 | D7: 台 | E7: 1 | H7: =F7+G7 -> 0 | I7: =E7*H7 -> 0
A8: 3 | B8: 桌上型IC感应式发卡器 | C8: 13.56MHz/Mifare-1卡感应格式，USB接口 | D8: 台 | E8: 1 | H8: =F8+G8 -> 0 | I8: =E8*H8 -> 0
A9: 4 | B9: IC感应卡片 | C9: 感应卡 | D9: 台 | E9: 100 | H9: =F9+G9 -> 0 | I9: =E9*H9 -> 0
A10: 二 | B10: 前段设备 | I10: =SUM(I11:I19) -> 0
A11: 1 | B11: 一卡通门禁管理系统 | C11: 曾送 | D11: 台 | E11: 1 | H11: =F11+G11 -> 0 | I11: =E11*H11 -> 0
A12: 2 | B12: 4门工业级门禁四门网控器 | C12: 可连接8台读卡器(4进4出)，容纳30500张卡片，尺寸：W160×H30×D224(mm) | D12: 台 | E12: 2 | H12: =F12+G12 -> 0 | I12: =E12*H12 -> 0
A13: 3 | B13: 8门工业级门禁八门网控器 | C13: 可连接16台读卡器(8进8出)，容纳30500张卡片，尺寸：W160×H30×D224(mm) | D13: 台 | E13: 1 | H13: =F13+G13 -> 0 | I13: =E13*H13 -> 0
A14: 4 | B14: IC感应式读卡器 | C14: 13.56MHz/支持CPU卡、Mifare-1、电信卡、NFC，灌胶具完全防尘防水，键盘按键，尺寸：W81x H120xD21(mm) | D14: 台 | E14: 10 | H14: =F14+G14 -> 0 | I14: =E14*H14 -> 0
A15: 5 | B15: 门禁专用外出开门按钮(防火塑料) | C15: 防火阻燃塑料86型开关 | D15: 台 | E15: 10 | H15: =F15+G15 -> 0 | I15: =E15*H15 -> 0
A16: 6 | B16: 单门磁力锁 | C16: 不锈钢材质，工作电压DC12V，规格,：L250xW47xD25(mm) | D16: 台 | E16: 10 | H16: =F16+G16 -> 0 | I16: =E16*H16 -> 0
A17: 7 | B17: 门禁专用控制箱 | C17: 门禁控制器专用，W420xH320xD150(mm) | D17: 台 | E17: 2 | H17: =F17+G17 -> 0 | I17: =E17*H17 -> 0
A18: 8 | B18: 门禁、电锁专用开关电源12V4安 | C18: 输出电源: DC12V 4.2A，尺寸: L129xW98xH38(mm)，短路过载保护 | D18: 台 | E18: 2 | H18: =F18+G18 -> 0 | I18: =E18*H18 -> 0
A19: 9 | B19: 门禁、电锁专用导轨开关电源12V8安 | C19: 输出电源: DC12V 8.5A，导轨型，短路过载保护 | D19: 台 | E19: 2 | H19: =F19+G19 -> 0 | I19: =E19*H19 -> 0
A20: 三 | B20: 考勤系统 | I20: =SUM(I21:I22) -> 0
A21: 1 | B21: 一卡通考勤管理系统 | C21: 5个读卡点以下, 50人以下 | D21: 台 | E21: 2 | H21: =F21+G21 -> 0 | I21: =E21*H21 -> 0
A22: 2 | B22: IC触控感应式读卡器 | C22: 13.56MHz/支持读写Mifare-1卡, 读电信卡, 读二代身份证卡, 读CPU卡，背光式液晶屏幕，尺寸：W81.5xH132xD22(mm)，读卡可显示适配器号、姓名，可搭配考勤使用 | D22: 台 | E22: 2 | H22: =F22+G22 -> 0 | I22: =E22*H22 -> 0
A23: 四 | B23: 管线及附材 | I23: =SUM(I24:I28) -> 0
A24: 1 | B24: 通讯网线RVV2*1.0 | C24: RVV 线缆 | D24: 米 | E24: 200 | H24: =F24+G24 -> 0 | I24: =E24*H24 -> 0
A25: 2 | B25: 通讯控制线RVV6*1.0 | C25: RVV 线缆 | D25: 米 | E25: 380 | H25: =F25+G25 -> 0 | I25: =E25*H25 -> 0
A26: 3 | B26: 通讯网线RVV4*1.0 | C26: RVV 线缆 | D26: 米 | E26: 290 | H26: =F26+G26 -> 0 | I26: =E26*H26 -> 0
A27: 4 | B27: 电源线RVV2*1.5 | C27: RVV 线缆 | D27: 米 | E27: 100 | H27: =F27+G27 -> 0 | I27: =E27*H27 -> 0
A28: 5 | B28: 电线管JDG20（含开槽、支架、防火涂料等） | C28: 镀锌线管 | D28: 米 | E28: 200 | H28: =F28+G28 -> 0 | I28: =E28*H28 -> 0
A29: 五 | B29: 本系统总价 | C29: （一）+（二）+（三）+（四） | I29: =I5+I10+I20+I23 -> 0

Sheet 巡更
A1: 巡更系统
A2: 工程：苏地2012-G-81号地块酒店区域智能化工程
A3: 序号 | B3: 项目名称描述 | C3: 技术参数 | D3: 单位 | E3: 工程量A | F3: 单价（元） | H3: 总价（元） | J3: 备注
F4: 主材B | G4: 安装费C | H4: 综合单价D=B+C | I4: 合价E=A*D
A5: 1 | B5: 信息钮 | C5: 使用寿命： 大于10年 使用温度： -40～60℃ 尺寸： Φ6mmX28mm管状卡 重量： 20g 耐用性： 强 防水抗摔防裂 工作电压： 无 工作电流： 无 记忆容量： 无限 | D5: 个 | E5: 52 | H5: =F5+G5 -> 0 | I5: =E5*H5 -> 0
A6: 2 | B6: 夜光标识牌 | C6: 用于辨识已安装的巡更巡检点 | D6: 个 | E6: 52 | H6: =F6+G6 -> 0 | I6: =E6*H6 -> 0
A7: 3 | B7: 巡更棒 | C7: 记录存储容量 30719 条记录 功耗 探测电流 60uA 电池寿命 一节CR123A电池可连续使用二年左右（每日读卡200次） 读卡距离 3～6cm 通讯格式 无线感应通讯 工作温度 -40℃～70℃ 工作湿度 0～95℅ 体积 130x38x27mm 重量 150～190g （根据铝合金或钢制内胆） 供电 3V锂电池 (CR123A) | D7: 个 | E7: 10 | H7: =F7+G7 -> 0 | I7: =E7*H7 -> 0
A8: 4 | B8: 通讯底座 | C8: 无线通讯座 配置 4个LED指示灯，助于识别数据传输状态 同一通讯坐型号可配用于多类巡更巡检产品 提供无线传输方式，让巡更巡检器设计达到完全无接口，防止破坏 巡更巡检器连接：RFID 无线传输 计算机连接：USB 长度(mm) 159 高度(mm) 33 宽度(mm) 79 | D8: 个 | E8: 2 | H8: =F8+G8 -> 0 | I8: =E8*H8 -> 0
A9: 5 | B9: 人员钮 | C9: 人员卡,作为巡逻人员身份识别使用 | D9: 个 | E9: 10 | H9: =F9+G9 -> 0 | I9: =E9*H9 -> 0
A10: 6 | B10: 巡更软件 | C10: 系统化的设计：从应用软件到巡更机硬件的一体化设计，完全瞄准用户需要，二次开发迅速。 产品可靠性高、实用性强。特别进行电磁学设计使功耗革命性的降低，使非接触式巡更机走向实用。防水、抗摔设计使故障率降低。 网络化软件，管理软件专业化定制化，针对性强，使用户想要的功能一个不少，用户不想要的功能一个不多，符合用户习惯，因此软件使用简单，功能强大。产品按照ISO9001质量体系要求进行设计、生产销售，外协厂家均通过ISO9002质量体系认证，确保了产品质量。 | D10: 套 | E10: 1 | H10: =F10+G10 -> 0 | I10: =E10*H10 -> 0
A11: 7 | B11: 本系统总价 | C11: 1+2+3+4+5+6 | I11: =SUM(I5:I10) -> 0

Sheet 停车场
A1: 分部分项工程量清单表
A2: 供应单价： I = A
A3: 安装单价： J = [ A + B + C + D + E + ( C x 0.1 + D ) x F% + D x G% ] x ( 1 + H% ) - A
A4: 停车场系统
A5: 工程：苏地2012-G-81号地块酒店区域智能化工程
A6: 序号 | B6: 项目名称描述 | C6: 技术参数 | D6: 单位 | E6: 工程量A | F6: 单价（元） | H6: 总价（元） | J6: 备注
F7: 主材B | G7: 安装费C | H7: 综合单价D=B+C | I7: 合价E=A*D
A8: 一 | B8: 二进二出车牌识别系统 | C8: 平面图上有一处停车场属于B区 | I8: =SUM(I9:I12) -> 0
A9: 1 | B9: 高速直臂自动挡车器 | C9: 前门标准配置高亮LED屏，指示挡车器运行状态。速度为1秒(±10%)(快速型)；3秒(±10%)（普通型）,杆长≤3米（快速型）；杆长≤4米（普通型）,采用先进的数字感应控制防砸技术，当落杆时触碰到障碍物时，挡车器能够智能检测，停止落杆并迅速返回，从而可实现有效保证车辆的安全。 尺寸： 345mm*295mm*980mm(长宽高) 8 颜色： 红/闪银黑/水晶蓝 环境温度： -35℃～+75℃ 相对湿度： 相对湿度≤90%，且不凝露 工作电压： AC220V/110V±10%，50/60Hz 电机功率 机芯电机120W 起杆时间： 1秒(±10%)(快速型)；3秒(±10%)（普通型） 功能： 遇阻反弹，无需安装压力电波 | D9: 套 | E9: 4 | H9: =F9+G9 -> 0 | I9: =E9*H9 -> 0
A10: 2 | B10: 车辆检测器 | C10: 交流电压：~ 220V 50Hz 直流电压：12V 功耗：小于3W 相对湿度：最大95% 灵敏度：3档调节 信号保持时间：不受限制 防护等级：IP30 工作环境温度：-40℃ ~ +65℃， 存贮温度：-40℃ ~ +85℃ 工作频率：50KHz ~ 250KHz 反应时间：100mS 继电器：250V AC/3A 线圈电感量：线圈加上连接线可为40---1000uH，理想值应在80---500uH之间。 掉电时处理器返回时间：近似2S | D10: 套 | E10: 8 | H10: =F10+G10 -> 0 | I10: =E10*H10 -> 0
A11: 3 | B11: 一体式智慧车场控制机(含机箱、主控制器、双层显示屏、语音、车牌识别摄像机、补光灯) | C11: 一体化两行LED绿色显示屏，（含机箱体、主控制器、显示屏、语音） 技术参数 机箱颜色：闪银黑 工作温度：-30℃～+70℃ 工作湿度：≤95%，无凝露 工作电源：AC220V±10%，50HZ 通讯方式：TCP/IP  200万像素1/2.8"逐行扫描 CMOS，分辨率可达1920*1080。 采用先进视频压缩技术H .264 做视频编码，抓拍帧采用JPEG编码。 支持地感触发、视频流、地感+视频流等多种车辆检测识别方式。 支持智能检测识别功能。 支持OSD信息叠加功能，支持视频/图片叠加水印，水印可校验。 支持SSD卡本地图片存储、自动覆盖、自动上传。 支持远程客户端控制功能，进行参数配置、视频预览、远程升级。 支持配置文件导入导出。 | D11: 台 | E11: 4 | H11: =F11+G11 -> 0 | I11: =E11*H11 -> 0
A12: 4 | B12: 岗亭 | C12: 标准 | D12: 套 | E12: 0 | H12: =F12+G12 -> 0 | I12: =E12*H12 -> 0
A13: 二 | B13: 出口管理工作站 | I13: =SUM(I14:I16) -> 0
A14: 1 | B14: 光纤收发器 | C14: 基本规格 接口类型 RJ-45，SC 网络 符合协议标准 IEEE 802.3，IEEE802.3u，IEEE802.3z，IEEE 802.3ab 传输速率 10/100/1000Mbps 最大传输距离 60000米 | D14: 对 | E14: 1 | H14: =F14+G14 -> 0 | I14: =E14*H14 -> 0
A15: 2 | B15: 软件狗 | C15: 配合软件使用 | D15: 套 | E15: 1 | H15: =F15+G15 -> 0 | I15: =E15*H15 -> 0
A16: 3 | B16: 工作站 | C16: 第八代处理 Intel Core I5-8500 3.0Ghz（6C,9M）/4G DDR4 2400/1TB 7200RPM 3.5"硬盘/集成千兆网卡/1G 独立显卡/DVD光驱/USB接口：前6后4/USB键盘鼠标/180W电源/WIN10 PRO 64位系统/联想19.5"WLED显示器/3年全国保修 | D16: 台 | E16: 1 | H16: =F16+G16 -> 0 | I16: =E16*H16 -> 0
A17: 三 | B17: 管理中心 | I17: =SUM(I18:I19) -> 0
A18: 1 | B18: 停车场管理软件 | C18: 含管理中心、数据分析中心、车牌校正中心、中央缴费处、出入口管理（含收费）、自助缴费终端等； 可支持云联网，支持微信、APP手机支付功能 可配套手持机及自助缴费机设备 支持金融支付接口等，可与银联等第三方系统对接 具有软件著作权登记证书 | D18: 套 | E18: 1 | H18: =F18+G18 -> 0 | I18: =E18*H18 -> 0
A19: 2 | B19: 服务器 | C19: 1U机架式服务器主机酷睿 i3-8100 4核4线程 8G ECC / 1T 企业级硬盘 | D19: 台 | E19: 1 | H19: =F19+G19 -> 0 | I19: =E19*H19 -> 0
A20: 四 | B20: 管线及辅材 | I20: =SUM(I21:I22) -> 0
A21: 1 | B21: 室外2芯单模光纤 | C21: OS2室外轻铠单模, 2芯, 9um | D21: 米 | E21: 785 | H21: =F21+G21 -> 0 | I21: =E21*H21 -> 0
A22: 2 | B22: 6类4对非屏蔽双绞线，低烟无卤 | C22: 产品规格：Cat6非屏蔽双绞线缆。 性能：23AWG线规的电缆满足250MHz条件下的传输要求，并采用带十字支撑架结构，可以有效隔离对绞线对以优化NEXT和ELFEXT性能，以保证整个布线系统的可靠性及稳定性； 标准：符合Category 6 ANSI/TIA/EIA-568-C2-1 and ISO/IEC 11801标准并可提供ETL或UL,信产部认证及相关测试报告； 芯线对数及屏蔽层：4对，每芯带有色条区别，内有线缆撕裂绳； 带宽要求：Cat6≥250MHz，支持1000 Base-T以及1000Base-TX局域网以及宽带视频应用； 电气特性：1.0-100.0MHz输入阻抗（欧姆） 100±6，100-250MHz输入阻抗（欧姆） 100±6，1.0-250.0MHz时延偏离(ns/100m) ≤45，线对对地的电容不平衡(pF/100m) ≤330，20°C条件下的导线最大直流电阻（欧姆/km）为73.2，电阻不平衡（%） ≤5； 认证：低烟无卤线缆满足 IEC60332、IEC 61034、IEC 60754标准要求，并在线缆外皮上标注符合的国际标准名称； 护套标识：LSZH护套，外护套印有品牌、型号规格、线规、屏蔽类型、标准号、缆型、生产序列号等信息，字迹清晰、不褪色、容易辨别，用于产品的质量回溯，并印有逆序长度标注(305~0 meter)以方便识别线缆长度； 包装：标准纸箱包装，外包装箱上印刷条形码等标识以方便业主及监理单位在不利用任何专业检测设备的前提下，就可以方便、简易、迅速的判断供应的货物是否为原厂原装正品； 水平线缆为低烟无卤LSZH产品，符合IEC60332-1阻燃等级，并提供中国信息产业部授权机构出具的第三方燃烧测试报告； 链路支持4连接，符合ANSI/TIA 568-C标准，并提供中国信息产业部授权检测机构出具的第三方传输性能测试报告； 产品需要满足元器件级别测试认证，其中双绞线，信息模块，跳线均有中国信息产业部授权检测机构或ETL出具的第三方传输性能测试报告。 | D22: 米 | E22: 603 | H22: =F22+G22 -> 0 | I22: =E22*H22 -> 0
A23: 五 | B23: 本系统总价 | C23: （一）+（二）+（三）+（四） | I23: =I8+I13+I17+I20 -> 0

Sheet 有线电视
A1: 有线电视系统
A2: 工程：苏地2012-G-81号地块酒店区域智能化工程
A3: 序号 | B3: 项目名称描述 | C3: 技术参数 | D3: 单位 | E3: 工程量A | F3: 单价（元） | H3: 总价（元） | J3: 备注
F4: 主材B | G4: 安装费C | H4: 综合单价D=B+C | I4: 合价E=A*D
A5: 1 | B5: 广电机顶盒 | C5: 采购安装 | D5: 个 | E5: 48 | H5: =F5+G5 -> 0 | I5: =E5*H5 -> 0
A6: 2 | B6: CA卡 | C6: 采购安装 | D6: 张 | E6: 48 | H6: =F6+G6 -> 0 | I6: =E6*H6 -> 0
A7: 2 | B7: 八路高清编码器 | C7: 1、设备采用1U 19英寸标准机架式设计。 2、设备自带2个千兆全双工IP接口，支持IP信号输入输出功能，支持双网管接口和数据传输功能； 3、设备支持60路IP输入输出，支持SPTS、MPTS输入输出功能； 4、设备支持UDP、RTP的单播及组播技术； 5、采用专业编码芯片，支持8路HDMI高清编码功能； 6、视频编码格式：H.264； 7、视频编码模式：CBR、VBR； 8、视频分辨率：480i、576i、720p、1080i、1080p； 9、音频编码格式：MPEG-1 Layer2、AAC、AC3； 10、音频模式：单声道、双声道、立体声； 11、支持音量调节功能； 12、设备支持节目复用、透传等功能； 13、具备NIT表添加、编辑等功能，支持节目排序； 14、设备支持输入输出码流实时监测功能，支持ETR 290 报错分析功能； | D7: 台 | E7: 7 | H7: =F7+G7 -> 0 | I7: =E7*H7 -> 0
A8: 3 | B8: 国标数字电视调制器 | C8: 1、设备采用1U 19英寸标准机架式设计； 2、设备自带2个千兆全双工IP接口，支持远程网络管理和数据输出功能； 3、设备具备1个RF调制接口，阻抗75Ω，可根据需求支持8路QAM/DTMB/ OFDM调制输出功能； 4、设备支持60路IP输出，支持SPTS、MPTS输入输出功能； 5、设备支持UDP、RTP的单播及组播技术； 6、调制频率范围：48-862MHz； 7、最高输出电平：106dBμV； 8、支持RF电平增益设置功能； 9、设备支持节目复用、透传等功能； 10、设备只支持PSI/SI表自动生成功能； 11、具备NIT表添加、编辑等功能，支持节目排序； 12、设备支持输入输出码流实时监测功能，支持ETR 290 报错分析功能； | D8: 台 | E8: 5 | H8: =F8+G8 -> 0 | I8: =E8*H8 -> 0
A9: 6 | B9: 高清视频播放器 | C9: 4K UHD蓝光DVD影碟机 杜比视界 3D/USB播放 网络视频 双HDMI 蓝光高清播放机器 黑色 | D9: 台 | E9: 6 | H9: =F9+G9 -> 0 | I9: =E9*H9 -> 0
A10: 7 | B10: 千兆交换机 | C10: 24口10/100/1000M自适应电口，4个SFP光口，固化单交流电源，无风扇 | D10: 台 | E10: 1 | H10: =F10+G10 -> 0 | I10: =E10*H10 -> 0
A11: 8 | B11: 混合器 | C11: 频率范围40～860MHz,输入口隔离度≥24dB,插入损耗≤19dB,带内平坦度±2dB | D11: 台 | E11: 1 | H11: =F11+G11 -> 0 | I11: =E11*H11 -> 0
A12: 9 | B12: 前置放大器 | C12: 19英寸1U机壳,功率增益 28dB,输出电平 120dBuV(带外抑制60dBc) | D12: 台 | E12: 1 | H12: =F12+G12 -> 0 | I12: =E12*H12 -> 0
A13: 10 | B13: 标准机柜 | C13: 前玻璃后钣金门机柜 配3块隔板 1个PDU 1套风扇 支脚4个 螺丝40套 | D13: 台 | E13: 3 | H13: =F13+G13 -> 0 | I13: =E13*H13 -> 0
A14: 11 | B14: 光发射机 | C14: FC/APC适配器，发射功率12mW，选用带光隔离器的高线性、低噪声分布反馈DFB激光器，AGC/MGC控制，工作状态异常时，以声光告警 | D14: 台 | E14: 1 | H14: =F14+G14 -> 0 | I14: =E14*H14 -> 0
A15: 12 | B15: 光分路器 | C15: 单模光分比均分，双窗口1310/1550nm，连接器FC/APC | D15: 台 | E15: 1 | H15: =F15+G15 -> 0 | I15: =E15*H15 -> 0
A16: 13 | B16: 光接收机 | C16: 光接收器件和RF放大模块均采用进口器件,工作带宽860MHz，可扩展光纤回传功能，带光功率显示电路，压铸铝合金外壳，2路RF高电平输出 | D16: 台 | E16: 8 | H16: =F16+G16 -> 0 | I16: =E16*H16 -> 0
... A27: 24 | B27: 同轴电缆 | C27: 芯数 1 护套材质 PE 防护等级 IP40 应用范围 信息传输系统 绝缘厚度 1.2 外表材质 交联聚乙烯 | D27: 米 | E27: 2850 | H27: =F27+G27 -> 0 | I27: =E27*H27 -> 0
A28: 25 | B28: 本系统总价 | C28: 1+2+3+4+5+6+…+24 | I28: =SUM(I5:I27) -> 0

Sheet 互动电视
A1: 互动电视系统
A2: 工程：苏地2012-G-81号地块酒店区域智能化工程
A3: 序号 | B3: 项目名称描述 | C3: 技术参数 | D3: 单位 | E3: 工程量A | F3: 单价（元） | H3: 总价（元） | J3: 备注
F4: 主材B | G4: 安装费C | H4: 综合单价D=B+C | I4: 合价E=A*D
A5: 一 | B5: 中心管理设备 | I5: =SUM(I6:I18) -> 0
A6: 1 | B6: 流媒体服务器 | C6: INTEL 至强E3-1230v5（4核/3.4GHz/8M） 16GB DDR4 ECC 2400GHz（最大可支持64G内存） 2TB SATA 3.5寸 7200转企业级*3块（最大可支持8块热插拔硬盘槽位） LSI RAID卡，12G传输，1GB缓存，支持RAID0、1、5、6、10、50、60级别（可选断电保护电池模块） INTEL 1000M网口*4，支持网卡绑定 集成远程管理模块，支持远程管理 PCI-E3.0x8*2 PCI-E 3.0 x4*1 550W*2(1+1)白金版服务器冗余电源 2U机架式 | D6: 台 | E6: 1 | H6: =F6+G6 -> 0 | I6: =E6*H6 -> 0
A7: 2 | B7: 应用服务器 | C7: E3架构，单 CPU； 标配16GB DDR3智能内存； 标配2 x 1T SATA硬盘, 支持RAID 0/1； 标配4个千兆以太网口； 标配2个电源； 2U高度； | D7: 台 | E7: 1 | H7: =F7+G7 -> 0 | I7: =E7*H7 -> 0
A8: 3 | B8: 流媒体智能平台软件V2.0 | C8: 系统管理模块，包括系统用户管理、客人管理、终端设备的管理、栏目内容的管理等。 | D8: 套 | E8: 1 | H8: =F8+G8 -> 0 | I8: =E8*H8 -> 0
C9: 酒店内容模块，包括首页视频、酒店设施、服务指南、安全提示等服务指南，消息留言等服务； | D9: 套 | E9: 1 | H9: =F9+G9 -> 0 | I9: =E9*H9 -> 0
C10: 系统提供基于DVB-C的高清、标清数字电视播放，支持境内、境外数字电视的整合，支持电子节目单的显示，支持断网播放; | D10: 套 | E10: 1 | H10: =F10+G10 -> 0 | I10: =E10*H10 -> 0
C11: 娱乐类模块：包括音乐精选、音悦故事等 | D11: 套 | E11: 1 | H11: =F11+G11 -> 0 | I11: =E11*H11 -> 0
C12: 资讯类模块：包括今日会议、汇率、天气、世界时间 | D12: 套 | E12: 1 | H12: =F12+G12 -> 0 | I12: =E12*H12 -> 0
C13: 酒店栏目的内容设计：按照酒店VI视觉风格，定制与酒店信息相关的中英两种界面的栏目内容。含一次酒店信息页面内容的设计制作，含上线前三次修改次数。 | D13: 套 | E13: 1 | H13: =F13+G13 -> 0 | I13: =E13*H13 -> 0
C14: 高清视频点播模块，系统提供视频点播功能，支持实时抛帐到PMS（需要PMS提供接口），在线200部电影，月更新5-10部; | D14: 套 | E14: 1 | H14: =F14+G14 -> 0 | I14: =E14*H14 -> 0
C15: PMS接口授权模块，系统中与PMS接口的授权模块，支持与PMS数据同步，可实现入住状态、客人称谓、人性化的欢迎页面、查询账单、消息留言、电影抛帐等功能。 | D15: 套 | E15: 1 | H15: =F15+G15 -> 0 | I15: =E15*H15 -> 0
C16: 团队客人管理模块，团客信息管理，界面根据团客信息自动显示个性化的团队欢迎页、团队客人日程、团客联系名单及会议信息等 | D16: 套 | E16: 1 | H16: =F16+G16 -> 0 | I16: =E16*H16 -> 0
C17: 帐单查询模块，通过系统可以查询并浏览该客房的帐单与明细等 | D17: 套 | E17: 1 | H17: =F17+G17 -> 0 | I17: =E17*H17 -> 0
C18: 电视点餐模块，客人通过ISTV在客房订餐，信息传送给餐饮（服务）中心，餐饮（服务）中心电话确认订餐细节并下单。 | D18: 套 | E18: 1 | H18: =F18+G18 -> 0 | I18: =E18*H18 -> 0
A19: 二 | B19: 前端设备 | I19: =SUM(I20:I21) -> 0
A20: 1 | B20: 智能机顶盒终端 | C20: Hi3796M V100;四核Mali450;8GByte EMMC;512MByte DDR3;1*HDMI OUT;2*USB 2.0;1*Ethernet 10/100M;1*红外1*串口1*CA卡槽;1*tuner IEC头母头 接头规格：英制F头1*电源插孔;功耗:最大12W;尺寸:145*145*25. 视频解码支持 H.265 Main Profile@L5.0 High-tier | D20: 台 | E20: 97 | H20: =F20+G20 -> 0 | I20: =E20*H20 -> 0
A21: 2 | B21: 终端软件使用许可 | C21: 客户端终端显示引擎控制系统模块,附客制化STB开机页面 | D21: 套 | E21: 97 | H21: =F21+G21 -> 0 | I21: =E21*H21 -> 0
A22: 三 | B22: 本系统总价 | C22: （一）+（二） | I22: =I5+I19 -> 0

Sheet 无线对讲
A1: 无线对讲系统
A2: 工程：苏地2012-G-81号地块酒店区域智能化工程
A3: 序号 | B3: 项目名称描述 | C3: 技术参数 | D3: 单位 | E3: 工程量A | F3: 单价（元） | H3: 总价（元） | J3: 备注
F4: 主材B | G4: 安装费C | H4: 综合单价D=B+C | I4: 合价E=A*D
A5: 1 | B5: 数字中继台 | C5: 1、支持数字TDMA模式下2个同步语音或数据信道； 2、高功率下100%连续工作周期； 3、可在模拟或数字模式下工作； 4、射频输出功率：50W 5、频率范围：403~470MHz 6、信道间隔：12.5KHz 7、频率稳定性：+/-0.5PPM 8、接收机互调：75dB 9、接收机邻近信道选择：60dB/12.5kHz | D5: 套 | E5: 3 | H5: =F5+G5 -> 0 | I5: =E5*H5 -> 0
A6: 2 | B6: 发射合路器 | C6: 工作频率：400-430MHz 插入损耗：2合路 ≤4.1dB 驻波比：输入≤1.2dB 输出≤1.4dB Tx to Rx隔离度：≥70dBm Ant to Tx隔离度：≥50dBm | D6: 套 | E6: 1 | H6: =F6+G6 -> 0 | I6: =E6*H6 -> 0
A7: 3 | B7: 接收分路器 | C7: 工作频率：400-430MHz 工作带宽：5MHz 波段增益：标准8~12dB，定制20~25dB 输入驻波比：≤1.40 输出驻波比：≤1.30 带内纹波(P-P)：≤0.5dB 隔离度：≥23dB | D7: 套 | E7: 1 | H7: =F7+G7 -> 0 | I7: =E7*H7 -> 0
A8: 4 | B8: 带通双工器 | C8: 工作频率：400-430MHz 工作带宽：UHF：±3MHz 最大功率：Max：200W 插入损耗：≤1.5dB 带外抑制 Out of band：±2.5MHz ≥45dB Out of band：﹣2.5MHz ≥25dB Out of band：±5MHz ≥75dB Out of band：﹣5MHz ≥45dB 隔离度：RX-TX band ≥75dB RX band ≥75dB TX band ≥75dB 驻波比：≤1.25 | D8: 套 | E8: 1 | H8: =F8+G8 -> 0 | I8: =E8*H8 -> 0
A9: 5 | B9: 干线放大器 | C9: 频率范围：RX:140-143/157-160/350-356/402-408/409-415/450-456MHz TX: 146-149/163-166/360-366/412-418/419-425/460-466MHz 上下行频率间隔:150MHz上下行间隔5.7MHz、350/400/450MHz上下行间隔10MHz 最大输出功率：RX:-7±3dBm TX:33±3dBm 最大输入功率（不损毁）：RX: -30 dBm TX:10 dBm 增益：RX: 35dB±3dB TX: 48dB±3dB 带内波动：RX:≤3dB TX:≤2dB 电压驻波比:≤1.5 时延:≤1.5μs 杂散发射：工作频带内:≤-30dBm/30kHz 工作频带外:9KHz-1GHz:-36dBm/100kHz ;1GHz-12.75GHz:-30dBm/1MHz 互调衰减：工作频带内:RX: ≤-55dBc/30kHz TX: ≤-40dBc/30kHz 工作频带外(偏离工作频带2.5MHz之外): 9kHz-1GHz(含1GHz):-36dBm/30kHz 1GHz-12.75GHz:-30dBm/30kHz 带外抑制：工作频带边缘±5MHz：≥70dBc 工作频带边缘±10MHz：≥70dBc | D9: 套 | E9: 2 | H9: =F9+G9 -> 0 | I9: =E9*H9 -> 0
A10: 6 | B10: 射频同轴电缆 | C10: 特性阻抗:50±1Ω 速度系数：0.88 电容：76 pF/m 最大使用频率：8.8 GHZ 额定功率峰值：58 KW | D10: 米 | E10: 1000 | H10: =F10+G10 -> 0 | I10: =E10*H10 -> 0
A11: 7 | B11: 耦合分配器 | C11: 频率范围：350-480MHz 阻抗：50Ω 驻波比：≤1.3 插入损耗：≤0.5 隔离度：≥22dB | D11: 只 | E11: 18 | H11: =F11+G11 -> 0 | I11: =E11*H11 -> 0
A12: 8 | B12: 室内全向天线 | C12: 频率范围:136-174MHz 350-480MHz 阻抗：50Ω 驻波比：≤1.4 增益：2.15dBi 极化方式：垂直 避雷保护：直流接地 耐功率：100W 接头形式：SL16 | D12: 只 | E12: 18 | H12: =F12+G12 -> 0 | I12: =E12*H12 -> 0
A13: 9 | B13: 室外全向天线 | C13: 频率范围:136-174MHz 350-480MHz 阻抗：50Ω 驻波比：≤1.2 增益：5dBi 极化方式：垂直 避雷保护：直流接地 耐功率：100W 接头形式：N-K | D13: 只 | E13: 1 | H13: =F13+G13 -> 0 | I13: =E13*H13 -> 0
A14: 10 | B14: 同轴避雷器 | C14: 工作频率:0～11GHz 最大持续电压Un：≤70 最大通流容量：10KV 限流电压：≤650V 插入损值：≤0.2dB 驻波比：<1.2 | D14: 只 | E14: 1 | H14: =F14+G14 -> 0 | I14: =E14*H14 -> 0
A15: 11 | B15: 同轴连接器 | C15: 频率范围:0-1000MHz 阻抗：50Ω 驻波比：≤1.2 插入损耗：≤0.1 | D15: 只 | E15: 90 | H15: =F15+G15 -> 0 | I15: =E15*H15 -> 0
A16: 12 | B16: 直角连接器 | C16: 频率范围:0-1000MHz 阻抗：50Ω 驻波比：≤1.2 插入损耗：≤0.1 | D16: 只 | E16: 18 | H16: =F16+G16 -> 0 | I16: =E16*H16 -> 0
A17: 13 | B17: 数字对讲机 | C17: 频率范围：UHF:400-470MHz7 VHF:146-174MHZ，信道容量：256，区域容量：16，信道间隔;25/12.5KHz,重量:250g,外形尺寸(H*W*D):110.2 x 59 x 30mm,频率稳定度:±0.5ppm,天线阻抗:50Ω,防尘防水:IP54标准,防湿:MIL-STD-810 C/D/E/F/G标准 | D17: 套 | E17: 20 | H17: =F17+G17 -> 0 | I17: =E17*H17 -> 0
A18: 14 | B18: 本系统总价 | C18: 1+2+3+4+5+6+…+13 | I18: =SUM(I5:I17) -> 0

Sheet 信息发布
A1: 信息发布系统
A2: 工程：苏地2012-G-81号地块酒店区域智能化工程
A3: 序号 | B3: 项目名称描述 | C3: 技术参数 | D3: 单位 | E3: 工程量A | F3: 单价（元） | H3: 总价（元） | J3: 备注
F4: 主材B | G4: 安装费C | H4: 综合单价D=B+C | I4: 合价E=A*D
A5: 1 | B5: 管理电脑 | C5: Core i7-7700 3.6G 4C 65W/4GB DDR4 2400内存/1TB 7200RPM 3.5" SATA3硬盘/RAID 1 (2 HDDs min)阵列/集成显卡/DVD光驱/USB键鼠/集成声卡/机箱报警开关/ 250W 85%电源/板载网卡/DOS/3年保修 | D5: 台 | E5: 1 | H5: =F5+G5 -> 0 | I5: =E5*H5 -> 0
A6: 2 | B6: 服务器 | C6: 机架式1U服务器：至强处理器 Intel® Xeon E3-1220 v6/1*8G 2133 ECCDDR4 内存/1TB（7.2K SATA3.5寸 硬盘/最大支持 2 块 3.5 英寸非热插拔盘，可选最大支持 4 块 2.5 英寸非热插拔硬盘/DVD光驱/集成网卡/外部设备接口：8 个 USB 2.0 接口 (2 前 6 后)；1 个 VGA 接口/1 个显示接口/1 个串口/导轨/300W电源/3年保修 | D6: 台 | E6: 1 | H6: =F6+G6 -> 0 | I6: =E6*H6 -> 0
A7: 3 | B7: 22寸广告一体机 | C7: 显示屏：22〞 背光类型：LED 分辨率：1920X1080 显示尺寸（mm）：476.64(H)×268.11(V) 响应时间：18ms 亮度：250cd/m² 对比度：3000:1 高宽比：16：9 CPU：双核处理器 主频1.2GHz 内存：1G 媒体播放格式：mkv,mov, mp4,avi, ts,mpg,mpeg,wmv,rm,rmvb,flv等；并且全高清解 视频编码格式：mpeg-1,mpeg-2,mpeg-4(XVID),ms-mpeg4v1,ms-mpeg4v2,ms-mpeg4v3,SorensomH.263,H.263,H.264(AVC),WMV7/8,wmv9(VC-1),RV(8/9/10),Divx-3,Divx-4,Divx-5,On2 VP6等 音频编码格式：Mp3,ogg,m4a,wma,wav,flac,amr,aac等 图片格式：JPEG,BMP,GIF,PNG等 音响：5W,8Ω×2 存储介质：SD，U盘 信号接口：网络接口RJ45，wifi，3G（可选）、SIM卡选配3G或4G、USB接口2路、SD卡插槽1路 | D7: 台 | E7: 4 | H7: =F7+G7 -> 0 | I7: =E7*H7 -> 0
A8: 4 | B8: 32寸广告一体机 | C8: 显示屏：32〞 背光类型：LED 分辨率：1366X768 显示尺寸（mm）：697.4845(H)×392.256(V) 响应时间：7ms 亮度：360cd/m² 对比度：3000:1 高宽比：16：9 CPU：双核处理器 主频1.2GHz 内存：1G 媒体播放格式：mkv,mov, mp4,avi, ts,mpg,mpeg,wmv,rm,rmvb,flv等；并且全高清解 视频编码格式：mpeg-1,mpeg-2,mpeg-4(XVID),ms-mpeg4v1,ms-mpeg4v2,ms-mpeg4v3,SorensomH.263,H.263,H.264(AVC),WMV7/8,wmv9(VC-1),RV(8/9/10),Divx-3,Divx-4,Divx-5,On2 VP6等 音频编码格式：Mp3,ogg,m4a,wma,wav,flac,amr,aac等 图片格式：JPEG,BMP,GIF,PNG等 音响：5W,8Ω×2 存储介质：SD，U盘 信号接口：网络接口RJ45，wifi，3G（可选）、SIM卡选配3G或4G、USB接口2路、SD卡插槽1路 | D8: 台 | E8: 4 | H8: =F8+G8 -> 0 | I8: =E8*H8 -> 0
A9: 5 | B9: 55寸一体机 | C9: 显示屏：55〞 背光类型：LED 分辨率：1366X768 显示尺寸（mm）：697.4845(H)×392.256(V) 响应时间：9ms 亮度：360cd/m² 对比度：1200:1 高宽比：16：9 CPU：双核处理器 主频1.2GHz 内存：1G 媒体播放格式：mkv,mov, mp4,avi, ts,mpg,mpeg,wmv,rm,rmvb,flv等；并且全高清解 视频编码格式：mpeg-1,mpeg-2,mpeg-4(XVID),ms-mpeg4v1,ms-mpeg4v2,ms-mpeg4v3,SorensomH.263,H.263,H.264(AVC),WMV7/8,wmv9(VC-1),RV(8/9/10),Divx-3,Divx-4,Divx-5,On2 VP6等 音频编码格式：Mp3,ogg,m4a,wma,wav,flac,amr,aac等 图片格式：JPEG,BMP,GIF,PNG等 音响：5W,8Ω×2(箱体） 存储介质：SD，U盘 信号接口：网络接口RJ45，wifi，3G（可选）、SIM卡选配3G或4G、USB接口2路、SD卡插槽1路 | D9: 台 | E9: 3 | H9: =F9+G9 -> 0 | I9: =E9*H9 -> 0
A10: 6 | B10: 信息发布软件 | D10: 套 | E10: 1 | H10: =F10+G10 -> 0 | I10: =E10*H10 -> 0
A11: 7 | B11: 终端授权 | D11: 套 | E11: 11 | H11: =F11+G11 -> 0 | I11: =E11*H11 -> 0
A12: 8 | B12: 六类非屏蔽双绞线 | C12: 产品规格：Cat6非屏蔽双绞线缆。 性能：23AWG线规的电缆满足250MHz条件下的传输要求，并采用带十字支撑架结构，可以有效隔离对绞线对以优化NEXT和ELFEXT性能，以保证整个布线系统的可靠性及稳定性； 标准：符合Category 6 ANSI/TIA/EIA-568-C2-1 and ISO/IEC 11801标准并可提供ETL或UL,信产部认证及相关测试报告； 芯线对数及屏蔽层：4对，每芯带有色条区别，内有线缆撕裂绳； 带宽要求：Cat6≥250MHz，支持1000 Base-T以及1000Base-TX局域网以及宽带视频应用； 电气特性：1.0-100.0MHz输入阻抗（欧姆） 100±6，100-250MHz输入阻抗（欧姆） 100±6，1.0-250.0MHz时延偏离(ns/100m) ≤45，线对对地的电容不平衡(pF/100m) ≤330，20°C条件下的导线最大直流电阻（欧姆/km）为73.2，电阻不平衡（%） ≤5； 认证：低烟无卤线缆满足 IEC60332、IEC 61034、IEC 60754标准要求，并在线缆外皮上标注符合的国际标准名称； 护套标识：LSZH护套，外护套印有品牌、型号规格、线规、屏蔽类型、标准号、缆型、生产序列号等信息，字迹清晰、不褪色、容易辨别，用于产品的质量回溯，并印有逆序长度标注(305~0 meter)以方便识别线缆长度； 包装：标准纸箱包装，外包装箱上印刷条形码等标识以方便业主及监理单位在不利用任何专业检测设备的前提下，就可以方便、简易、迅速的判断供应的货物是否为原厂原装正品； 水平线缆为低烟无卤LSZH产品，符合IEC60332-1阻燃等级，并提供中国信息产业部授权机构出具的第三方燃烧测试报告； 链路支持4连接，符合ANSI/TIA 568-C标准，并提供中国信息产业部授权检测机构出具的第三方传输性能测试报告； 产品需要满足元器件级别测试认证，其中双绞线，信息模块，跳线均有中国信息产业部授权检测机构或ETL出具的第三方传输性能测试报告。提供CE、ROHS、UL认证证书 | D12: 箱 | E12: 1 | H12: =F12+G12 -> 0 | I12: =E12*H12 -> 0
A13: 9 | B13: 配管 | D13: 米 | E13: 120 | H13: =F13+G13 -> 0 | I13: =E13*H13 -> 0
A14: 10 | B14: 本系统总价 | C14: 1+2+3+4+5+6+7+8+9 | I14: =SUM(I5:I13) -> 0

Sheet 照明
A1: 智能照明系统
A2: 工程：苏地2012-G-81号地块酒店区域智能化工程
A3: 序号 | B3: 项目名称描述 | C3: 技术参数 | D3: 单位 | E3: 工程量A | F3: 单价（元） | H3: 总价（元） | J3: 备注
F4: 主材B | G4: 安装费C | H4: 综合单价D=B+C | I4: 合价E=A*D
